BEGIN:VCALENDAR
VERSION:2.0
PRODID:-//StivoZ.gr - ECPv5.16.4//NONSGML v1.0//EN
CALSCALE:GREGORIAN
METHOD:PUBLISH
X-WR-CALNAME:StivoZ.gr
X-ORIGINAL-URL:https://www.stivoz.gr
X-WR-CALDESC:StivoZ.gr - Εκδηλώσεις
BEGIN:VTIMEZONE
TZID:Europe/Athens
BEGIN:STANDARD
TZOFFSETFROM:+0200
TZOFFSETTO:+0200
TZNAME:EET
DTSTART:20090101T000000
END:STANDARD
END:VTIMEZONE
BEGIN:VEVENT
DTSTART;VALUE=DATE:20090524
DTEND;VALUE=DATE:20260420
DTSTAMP:20260419T182156
CREATED:20090522T201715Z
LAST-MODIFIED:20181208T172923Z
UID:28318-1243123200-0@www.stivoz.gr
SUMMARY:Ζηρίνεια (Κηφισιά)
DESCRIPTION:16.00 Ακοντισμός Νέων\n17.00 ύψος Γ\n17.00 80μ ΠΚ Α΄\,\n17.20 80μ ΠΠ Α΄\n17.40 100μ Γ\n18.10 100μ Α\n18.10 Τριπλούν Α\,\n18.40 150μ ΠΚ Α΄\n19.00 150μ ΠΠ Α΄\,\n19.00 Σφαίρα Νέων\n19.20 400μ Α\n19.40 1.000μ ΠΚ Α΄\n19.50 1.000μ. ΠΠ Α΄\n20.00 1.500μ Γ\n20.15 1.500μ Α
URL:https://www.stivoz.gr/event/zirineia-kifisia/
CATEGORIES:Ημερολόγιο αγώνων
END:VEVENT
END:VCALENDAR