BEGIN:VCALENDAR
VERSION:2.0
PRODID:-//StivoZ.gr - ECPv5.16.4//NONSGML v1.0//EN
CALSCALE:GREGORIAN
METHOD:PUBLISH
X-WR-CALNAME:StivoZ.gr
X-ORIGINAL-URL:https://www.stivoz.gr
X-WR-CALDESC:StivoZ.gr - Εκδηλώσεις
BEGIN:VTIMEZONE
TZID:Europe/Athens
BEGIN:STANDARD
TZOFFSETFROM:+0200
TZOFFSETTO:+0200
TZNAME:EET
DTSTART:20110101T000000
END:STANDARD
END:VTIMEZONE
BEGIN:VEVENT
DTSTART;VALUE=DATE:20110612
DTEND;VALUE=DATE:20260423
DTSTAMP:20260422T074659
CREATED:20110414T210926Z
LAST-MODIFIED:20181208T172856Z
UID:28591-1307836800-0@www.stivoz.gr
SUMMARY:Ζαχαριάδεια (Θεσ/νίκη)
DESCRIPTION:Σχετικά θέματα:\n– www.stivoz.com/forum/showthread.php?5199\n– www.stivoz.com/forum/showthread.php?5198 (αποτελέσματα) \nΠρόγραμμα \nΜετά την αφαίρεση του δρόμου των 3000μ. με φυσικά εμπόδια της σφαίρας Α και το Μήκος των βετεράνων το πρόγραμμα συμπληρώθηκε με τα αγωνίσματα των 400μ.Γ\, 800μ.Γ και Μήκος ανδρών\nΠΡΟΣΟΧΗ: Οι δηλώσεις συμμετοχής στα αγωνίσματα που προστέθηκαν στο τελικό πρόγραμμα θα γίνουν μέχρι 1 ώρα πριν από την διεξαγωγή του αγωνίσματος  \n17:25 ΜΗΚΟΣ Α – Π\n17:25 ΔΙΣΚΟΣ     Ε\n17:25	80μ ΕΜΠ ΠΚ Α΄\n17:40	    110μ ΕΜΠ Ε\n17:50	200μ  Γ\n17:50 ΕΠΙ ΚΟΝΤΩ Γ\n17:50 ΣΦΑΙΡΑ    Ε\n18:10	300μ ΠΚ Α΄\n18:20	300μ ΠΠ Α΄\n18:35 ΜΗΚΟΣ  Γ – Κ\n18:35	ΔΙΣΚΟΣ     Γ – Κ\n18:35	400μ ΕΜΠ Γ\n18:50	400μ ΕΜΠ Α\n19:00	800μ. Α\n19:00 800μ. Γ\n19:15	400μ  Π\n19:30	400μ  Α\n19:30 ΑΚΟΝΤΙΟ Γ – Κ\n19:30 ΣΦΥΡΑ Γ\n19:45	400μ  Κ – Γ\n19:45 ΤΡΙΠΛΟΥΝ Α – Π\n20:00	4Χ100m Α-Π\n20:10	4Χ100m Γ-Κ\n20:20	4Χ80m ΠΠΑ΄\n20:30	4Χ80m ΠΚ Α΄		 \nΣΗΜΕΙΩΣΗ :\nΑγωνίσματα στα οποία δεν θα δηλωθούν περισσότεροι από 3 αθλητές –τριες ή ομάδες ΔΕΝ θα διεξαχθούν  \nΟι Δηλώσεις Συμμετοχής των αθλητών-τριών θα υποβάλλονται το αργότερο μέχρι την Τετάρτη 8/6/2011 στα Γραφεία της ΕΑΣ ΣΕΓΑΣ ΘΕΣΣΑΛΟΝΙΚΗΣ (ΦΑΞ: 2310 211799)  \n-> αρχική προκήρυξη
URL:https://www.stivoz.gr/event/zachariadeia-thes-niki-2/
CATEGORIES:Ημερολόγιο αγώνων
END:VEVENT
END:VCALENDAR