BEGIN:VCALENDAR
VERSION:2.0
PRODID:-//StivoZ.gr - ECPv5.16.4//NONSGML v1.0//EN
CALSCALE:GREGORIAN
METHOD:PUBLISH
X-WR-CALNAME:StivoZ.gr
X-ORIGINAL-URL:https://www.stivoz.gr
X-WR-CALDESC:StivoZ.gr - Εκδηλώσεις
BEGIN:VTIMEZONE
TZID:Europe/Athens
BEGIN:DAYLIGHT
TZOFFSETFROM:+0200
TZOFFSETTO:+0300
TZNAME:EEST
DTSTART:20190331T010000
END:DAYLIGHT
BEGIN:STANDARD
TZOFFSETFROM:+0300
TZOFFSETTO:+0200
TZNAME:EET
DTSTART:20191027T010000
END:STANDARD
END:VTIMEZONE
BEGIN:VEVENT
DTSTART;VALUE=DATE:20190601
DTEND;VALUE=DATE:20190602
DTSTAMP:20260419T184737
CREATED:20190522T121752Z
LAST-MODIFIED:20190602T203931Z
UID:50077-1559347200-1559433599@www.stivoz.gr
SUMMARY:Χειμωνίδεια (Θεσσαλονίκη)
DESCRIPTION:Σχετικά θέματα:\n– https://www.stivoz.gr/rekor-korasidwn-i-hatzipourgani-sta-cheimonideia/\n– https://www.stivoz.gr/xeimonideia-2019/ (αποτελέσματα) \nΠρόγραμμα \n16.00 Έπαθλο Κ. Χειμωνίδη\n16.00 Μήκος – Τετραπλούν Τετράθλου ΠΠΑ\n16.00 Ύψος Γ\n16.15 80 μ. ΠΠΑ΄\n17:00 Τριπλούν Γ\n17:15 400 μ. Εμπόδια K\n17:30 400 μ. Εμπόδια Γ\n17:30 Ύψος Τετράθλου ΠΠΑ\n17:45 400 μ. Εμπόδια Π\n18:00 400 μ. Εμπόδια Α\n18:15 400 μ. Γ\n18:30 Μήκος Α\n18:30 Ύψος βετεράνων αθλητών-τριών Κ. ΧΕΙΜΩΝΙΔΗ\n18:45 100 μ. Γ\n19:00 100μ. εμπ. Τετράθλου ΠΠΑ\n19:00 Ύψος Α\n19:15 200 μ. Α\n19:45 1500 μ. Α\n19:55 1500 μ. Γ\n20:15 4×100 μ. Π\n20:30 4×100 μ. Κ \nΟι Δηλώσεις Συμμετοχής των αθλητών-τριών θα υποβάλλονται το αργότερο μέχρι την Τρίτη 28 Μαΐου και ώρα 12:00 στα Γραφεία της ΕΑΣ ΣΕΓΑΣ ΘΕΣΣΑΛΟΝΙΚΗΣ σε ειδικό συνημμένο έντυπο της προκήρυξης ηλεκτρονικά segasthes@gmail.com
URL:https://www.stivoz.gr/event/xeimonideia-2019/
CATEGORIES:Ημερολόγιο αγώνων
END:VEVENT
END:VCALENDAR