BEGIN:VCALENDAR
VERSION:2.0
PRODID:-//StivoZ.gr - ECPv5.16.4//NONSGML v1.0//EN
CALSCALE:GREGORIAN
METHOD:PUBLISH
X-WR-CALNAME:StivoZ.gr
X-ORIGINAL-URL:https://www.stivoz.gr
X-WR-CALDESC:StivoZ.gr - Εκδηλώσεις
BEGIN:VTIMEZONE
TZID:Europe/Athens
BEGIN:STANDARD
TZOFFSETFROM:+0200
TZOFFSETTO:+0200
TZNAME:EET
DTSTART:20100101T000000
END:STANDARD
END:VTIMEZONE
BEGIN:VEVENT
DTSTART;VALUE=DATE:20100529
DTEND;VALUE=DATE:20260421
DTSTAMP:20260420T051301
CREATED:20100520T051317Z
LAST-MODIFIED:20230531T095019Z
UID:28475-1275091200-0@www.stivoz.gr
SUMMARY:Χειμωνίδεια 2010 (Καυτανζόγλειο)
DESCRIPTION:Σχετικά θέματα:\nhttp://www.stivoz.gr/?p=10721\nhttp://www.stivoz.gr/?p=16835 (αποτελέσματα) \nΠληροφορίες: http://www.asrigas.gr \nΠρόγραμμα:\n16:45		ΕΠΙ ΚΟΝΤΩ  Γ-Κ-ΠΚΑ\n16:45 ΥΨΟΣ           Γ-Κ\n17:00		ΜΗΚΟΣ      Γ-Κ-ΠΚΑ΄\n17:00 ΣΦΑΙΡΑ Π\n17.15	 100 Μ .ΕΜΠ       Γ\n17:30 ΔΙΣΚΟΣ Α\n17:30	 100 Μ.              Α-Π\n17.45	 100 Μ.              Γ-Κ\n18:00 ΕΠΙ ΚΟΝΤΩ Α-Π-ΠΠΑ\n18:00	 400 Μ.              Α-Π\n18:15	400 Μ.               Γ-Κ\n18:30 ΜΗΚΟΣ      Α-Π-ΠΠΑ΄\n18:30 ΥΨΟΣ        Α-Π\n18:30 ΣΦΑΙΡΑ Γ-Κ\n18:30	200 Μ.               Α-Π\n18:45	200 Μ.               Γ-Κ\n18:45 ΔΙΣΚΟΣ Γ-Κ-ΠΚΑ\n19:00	ΑΦΙΕΡΩΜΑ ΣΤΗΝ ΜΝΗΜΗ ΤΟΥ «Κ. ΧΕΙΜΩΝΙΔΗ»\n19:15	150 Μ.              ΠΠΑ΄\n19:30	150 Μ.              ΠΚΑ΄\n19:45	1500 Μ.            Α-Π\n20:00	1500 Μ.            Γ-Κ \nΚάθε αθλητής-τρια  μπορεί να δηλωθεί και να συμμετάσχει  συνολικά σε  2 αγωνίσματα.\n•	Επιτρέπεται η συμμετοχή εκτός συναγωνισμού ΜΟΝΟΝ  στους παλαιούς  αθλητές του Κ. ΧΕΙΜΩΝΙΔΗ και μόνο στα αγωνίσματα του Μήκους και του Ύψους
URL:https://www.stivoz.gr/event/xeimonideia-2010/
CATEGORIES:Ημερολόγιο αγώνων
END:VEVENT
END:VCALENDAR