BEGIN:VCALENDAR
VERSION:2.0
PRODID:-//StivoZ.gr - ECPv5.16.4//NONSGML v1.0//EN
CALSCALE:GREGORIAN
METHOD:PUBLISH
X-WR-CALNAME:StivoZ.gr
X-ORIGINAL-URL:https://www.stivoz.gr
X-WR-CALDESC:StivoZ.gr - Εκδηλώσεις
BEGIN:VTIMEZONE
TZID:Europe/Athens
BEGIN:STANDARD
TZOFFSETFROM:+0200
TZOFFSETTO:+0200
TZNAME:EET
DTSTART:20160101T000000
END:STANDARD
END:VTIMEZONE
BEGIN:VEVENT
DTSTART;VALUE=DATE:20160305
DTEND;VALUE=DATE:20260423
DTSTAMP:20260422T052615
CREATED:20160303T213655Z
LAST-MODIFIED:20210218T105116Z
UID:29087-1457136000-0@www.stivoz.gr
SUMMARY:Χειμερινό κύπελλο ρίψεων (Άγ.Κοσμάς)
DESCRIPTION:Σχετικά θέματα:\n– www.stivoz.com/content.php?5428-Dynato-xekinima-o-Anastasakis-sto-xeimerino-ripsewn\n– www.stivoz.com/forum/showthread.php?14824 (αποτελέσματα) \n-> δείγματα φωτογραφιών \nΠρόγραμμα:  \n10:00	Σφαιροβολία 	Κορασίδων\n10:00		Δισκοβολία 	Παίδων\n11:15	Σφαιροβολία 	Παίδων\n11:15		Δισκοβολία 	Κορασίδων\n12:00	Σφυροβολία 	Κορασίδων\n13:00	Σφυροβολία 	Παίδων\n13:45	Σφυροβολία 	Ανδρών – Εφήβων\n14:00	Ακοντισμός 	Κορασίδων\n14:30	Σφαιροβολία 	Γυναικών – Νεανίδων\n15:15	Δισκοβολία 	Γυναικών – Νεανίδων\n15:20	Ακοντισμός 	Παίδων\n15:30	Σφαιροβολία 	Εφήβων\n16:00	Σφυροβολία 	Γυναικών – Νεανίδων\n16:20	Ακοντισμός 	Γυναικών – Νεανίδων\n16:30	Σφαιροβολία 	Ανδρών\n17:00	Δισκοβολία 	Εφήβων\n17:20	Ακοντισμός 	Ανδρών – Εφήβων\n18:00	Δισκοβολία 	Ανδρών \n(ο ακοντισμός γίνεται στο κεντρικό και τα άλλα αγωνίσματα στο βοηθητικό ρίψεων του Αγ.Κοσμά)
URL:https://www.stivoz.gr/event/xeimerino-ripseon-2016/
CATEGORIES:Ημερολόγιο αγώνων
END:VEVENT
END:VCALENDAR