BEGIN:VCALENDAR
VERSION:2.0
PRODID:-//StivoZ.gr - ECPv5.16.4//NONSGML v1.0//EN
CALSCALE:GREGORIAN
METHOD:PUBLISH
X-WR-CALNAME:StivoZ.gr
X-ORIGINAL-URL:https://www.stivoz.gr
X-WR-CALDESC:StivoZ.gr - Εκδηλώσεις
BEGIN:VTIMEZONE
TZID:Europe/Athens
BEGIN:STANDARD
TZOFFSETFROM:+0200
TZOFFSETTO:+0200
TZNAME:EET
DTSTART:20170101T000000
END:STANDARD
END:VTIMEZONE
BEGIN:VEVENT
DTSTART;VALUE=DATE:20171120
DTEND;VALUE=DATE:20260420
DTSTAMP:20260419T184206
CREATED:20171013T063316Z
LAST-MODIFIED:20210223T084940Z
UID:29253-1511136000-0@www.stivoz.gr
SUMMARY:3ο διαδ.σεμινάριο
DESCRIPTION:Θέμα: Πρόγραμμα αθλητικής ψυχολογίας: Περιττό ή αναγκαίο\nΏρες: 21:30 – 23:00\nΕισηγήτρια: Πατσού Φρόσω (Ψυχολόγος-Αθλητική ψυχολόγος) \n-> Εισηγήσεις
URL:https://www.stivoz.gr/event/webinar20171120/
CATEGORIES:Ημερολόγιο αγώνων
END:VEVENT
END:VCALENDAR