BEGIN:VCALENDAR
VERSION:2.0
PRODID:-//StivoZ.gr - ECPv5.16.4//NONSGML v1.0//EN
CALSCALE:GREGORIAN
METHOD:PUBLISH
X-WR-CALNAME:StivoZ.gr
X-ORIGINAL-URL:https://www.stivoz.gr
X-WR-CALDESC:StivoZ.gr - Εκδηλώσεις
BEGIN:VTIMEZONE
TZID:Europe/Athens
BEGIN:DAYLIGHT
TZOFFSETFROM:+0200
TZOFFSETTO:+0300
TZNAME:EEST
DTSTART:20230326T010000
END:DAYLIGHT
BEGIN:STANDARD
TZOFFSETFROM:+0300
TZOFFSETTO:+0200
TZNAME:EET
DTSTART:20231029T010000
END:STANDARD
END:VTIMEZONE
BEGIN:VEVENT
DTSTART;TZID=Europe/Athens:20230714T170000
DTEND;TZID=Europe/Athens:20230714T190000
DTSTAMP:20260422T090916
CREATED:20230711T093759Z
LAST-MODIFIED:20230714T135203Z
UID:107247-1689354000-1689361200@www.stivoz.gr
SUMMARY:webinar - besafeinathletics
DESCRIPTION:Απευθύνεται στις κατηγορίες Κ20\, Κ23 και Ανδρών-Γυναικών\, σε αθλητές\, αθλήτριες και προπονητές\, αλλά γενικά σε ανθρώπους που εμπλέκονται στο χώρο\, όπως κριτές\, εθελοντές\, εργαζόμενους. \nzoom link: https://us02web.zoom.us/j/85942347144?pwd=Q2VqVEc1ZEZMcGlGYm9PaSt5ZmtFUT09 \nΟμιλητές: \nΓιώτα Μάνθου – Κοινωνική λειτουργός MSW\, Ψυχολόγος\, Προϊσταμένη Τμήματος Αναδοχών- Υιοθεσιών Ε.Κ.Κ.Α. \nΦρόσω Πατσού – Ph.D Ψυχολόγος\, αθλητική ψυχολόγος\, Συνεργάτης ΣΕΓΑΣ \nΜαρία Τσάγκαρη– MPS PSA Psy\, Ειδική Επιστήμονας Κύκλου Δικαιωμάτων του Παιδιού\, Ανεξάρτητη Αρχή “Συνήγορος του Πολίτη”
URL:https://www.stivoz.gr/event/webinar-besafeinathletics-2/
CATEGORIES:Ημερολόγιο αγώνων
END:VEVENT
END:VCALENDAR