BEGIN:VCALENDAR
VERSION:2.0
PRODID:-//StivoZ.gr - ECPv5.16.4//NONSGML v1.0//EN
CALSCALE:GREGORIAN
METHOD:PUBLISH
X-WR-CALNAME:StivoZ.gr
X-ORIGINAL-URL:https://www.stivoz.gr
X-WR-CALDESC:StivoZ.gr - Εκδηλώσεις
BEGIN:VTIMEZONE
TZID:Europe/Athens
BEGIN:DAYLIGHT
TZOFFSETFROM:+0200
TZOFFSETTO:+0300
TZNAME:EEST
DTSTART:20230326T010000
END:DAYLIGHT
BEGIN:STANDARD
TZOFFSETFROM:+0300
TZOFFSETTO:+0200
TZNAME:EET
DTSTART:20231029T010000
END:STANDARD
END:VTIMEZONE
BEGIN:VEVENT
DTSTART;TZID=Europe/Athens:20230712T170000
DTEND;TZID=Europe/Athens:20230712T190000
DTSTAMP:20260422T072109
CREATED:20230711T093548Z
LAST-MODIFIED:20230711T142759Z
UID:107245-1689181200-1689188400@www.stivoz.gr
SUMMARY:webinar - besafeinathletics
DESCRIPTION:Απευθύνεται σε ανήλικους αθλητές και αθλήτριες (κατηγορία Κ14-Κ18)\, στους γονείς τους\, αλλά και στους προπονητές και στις προπονήτριες τους \nzoom link: https://us02web.zoom.us/j/84493091142?pwd=bStsZ2dsdmc3RzBUVmpqaHJ0T3YvUT09 \nΟμιλητές: \nΓιώτα Μάνθου – Κοινωνική λειτουργός MSW\, Ψυχολόγος\, Προϊσταμένη Τμήματος Αναδοχών- Υιοθεσιών Ε.Κ.Κ.Α. \nΤατιάνα Γκούσιν – Πρωταθλήτρια ύψους\, 2η Μεσογειονίκης 2022 \nΦρόσω Πατσού – Ph.D Ψυχολόγος\, αθλητική ψυχολόγος\, Συνεργάτης ΣΕΓΑΣ \nΜαρία Τσάγκαρη– MPS PSA Psy\, Ειδική Επιστήμονας Κύκλου Δικαιωμάτων του Παιδιού\, Ανεξάρτητη Αρχή “Συνήγορος του Πολίτη”
URL:https://www.stivoz.gr/event/webinar-besafeinathletics-1/
CATEGORIES:Ημερολόγιο αγώνων
END:VEVENT
END:VCALENDAR