BEGIN:VCALENDAR
VERSION:2.0
PRODID:-//StivoZ.gr - ECPv5.16.4//NONSGML v1.0//EN
CALSCALE:GREGORIAN
METHOD:PUBLISH
X-WR-CALNAME:StivoZ.gr
X-ORIGINAL-URL:https://www.stivoz.gr
X-WR-CALDESC:StivoZ.gr - Εκδηλώσεις
BEGIN:VTIMEZONE
TZID:Europe/Athens
BEGIN:DAYLIGHT
TZOFFSETFROM:+0200
TZOFFSETTO:+0300
TZNAME:EEST
DTSTART:20200329T010000
END:DAYLIGHT
BEGIN:STANDARD
TZOFFSETFROM:+0300
TZOFFSETTO:+0200
TZNAME:EET
DTSTART:20201025T010000
END:STANDARD
END:VTIMEZONE
BEGIN:VEVENT
DTSTART;TZID=Europe/Athens:20200330T210000
DTEND;TZID=Europe/Athens:20200330T223000
DTSTAMP:20260420T124212
CREATED:20200323T113607Z
LAST-MODIFIED:20210223T085336Z
UID:65733-1585602000-1585607400@www.stivoz.gr
SUMMARY:6ο Webinar
DESCRIPTION:Σχετικά θέματα:\n– www.stivoz.gr/megali-symmetochi-sto-webinar-oi-paroysiaseis/\n\n1η Εισήγηση: “Πώς διαχειριζόμαστε ψυχολογικά την παραμονή στο σπίτι”.\nΕισηγήτρια: Φρόσω Πατσού\, P.hD.\nΨυχολόγος – Αθλητική Ψυχολόγος\, Επιστημονική Συνεργάτιδα Εθνικής Ομάδας Στίβου\n–\n2η Εισήγηση: “Διατροφικές συμβουλές για τη διαχείριση βάρους και την ενίσχυση του ανοσοποιητικού συστήματος σε αθλητές λόγω των επιπτώσεων του covid-19.”\nΕισηγήτρια: Ειρήνη Μπαμπαρούτση\, PhD\nΚλινική Διαιτολόγος – Αθλητική Διατροφολόγος\, Διατροφολόγος Εθνικής Ομάδας Στίβου\n.\n-> πληροφορίες / δηλώσεις συμμετοχής \n(Κάντε τη δήλωση\, με λατινικούς χαρακτήρες\, έως το Σάββατο 28/3) \nΌταν θα πλησιάζει η ώρα έναρξης του διαδικτυακού σεμιναρίου (τη Δευτέρα στις 21.00) θα πρέπει να κάνετε τα ακόλουθα τρία βήματα:\n1. Για να παρακολουθήσουμε τα σεμινάρια μπαίνουμε στη διεύθυνση:\nhttps://go.myownconference.com/en/y010848f013/-\n2. Στο πεδίο display name δηλώνουμε το πραγματικό μας όνομα με λατινικούς χαρακτήρες\n3. Στη συνέχεια επιλέγουμε Sign In
URL:https://www.stivoz.gr/event/webinar-20192020-6/
CATEGORIES:Ημερολόγιο αγώνων
END:VEVENT
END:VCALENDAR