BEGIN:VCALENDAR
VERSION:2.0
PRODID:-//StivoZ.gr - ECPv5.16.4//NONSGML v1.0//EN
CALSCALE:GREGORIAN
METHOD:PUBLISH
X-WR-CALNAME:StivoZ.gr
X-ORIGINAL-URL:https://www.stivoz.gr
X-WR-CALDESC:StivoZ.gr - Εκδηλώσεις
BEGIN:VTIMEZONE
TZID:Europe/Athens
BEGIN:DAYLIGHT
TZOFFSETFROM:+0200
TZOFFSETTO:+0300
TZNAME:EEST
DTSTART:20200329T010000
END:DAYLIGHT
BEGIN:STANDARD
TZOFFSETFROM:+0300
TZOFFSETTO:+0200
TZNAME:EET
DTSTART:20201025T010000
END:STANDARD
END:VTIMEZONE
BEGIN:VEVENT
DTSTART;TZID=Europe/Athens:20200309T210000
DTEND;TZID=Europe/Athens:20200309T223000
DTSTAMP:20260420T124126
CREATED:20200303T212531Z
LAST-MODIFIED:20210223T085324Z
UID:65059-1583787600-1583793000@www.stivoz.gr
SUMMARY:4o webinar
DESCRIPTION:«Αγωνιστικός προγραμματισμός στους αγώνες στόχους της ομοσπονδίας στις κατηγορίες Α/Γ\, Κ23\, Κ20\, Κ18» \nΕισηγητές:\nΓιάννης Κουτσιώρας\, Εθνικός προπονητής\nΧρήστος Μελέτογλου\, Εθνικός προπονητής Κ20\nΑπόστολος Αποστολόπουλος\, Εθνικός προπονητής Κ18 \n-> πληροφορίες / δηλώσεις συμμετοχής \n(Κάντε τη δήλωση\, με λατινικούς χαρακτήρες\, έως την Κυριακή 8/3) \nΓια να μπορέσετε να παρακολουθήσετε τα διαδικτυακά σεμινάρια θα πρέπει να έχετε εγκατεστημένη στον υπολογιστή σας μία πρόσφατη έκδοση της εφαρμογής flash player.\nhttps://get.adobe.com/flashplayer/\nΌταν θα πλησιάζει η ώρα έναρξης του διαδικτυακού σεμιναρίου (τη Δευτέρα στις 21.00) θα πρέπει να κάνετε τα ακόλουθα τρία βήματα:\n1. Για να παρακολουθήσουμε τα σεμινάρια μπαίνουμε στη διεύθυνση:\nhttps://go.myownconference.com/en/y010848f013/-\n2. Στο πεδίο display name δηλώνουμε το πραγματικό μας όνομα με λατινικούς χαρακτήρες\n3. Στη συνέχεια επιλέγουμε Sign In
URL:https://www.stivoz.gr/event/webinar-20192020-4/
CATEGORIES:Ημερολόγιο αγώνων
END:VEVENT
END:VCALENDAR