BEGIN:VCALENDAR
VERSION:2.0
PRODID:-//StivoZ.gr - ECPv5.16.4//NONSGML v1.0//EN
CALSCALE:GREGORIAN
METHOD:PUBLISH
X-WR-CALNAME:StivoZ.gr
X-ORIGINAL-URL:https://www.stivoz.gr
X-WR-CALDESC:StivoZ.gr - Εκδηλώσεις
BEGIN:VTIMEZONE
TZID:Europe/Athens
BEGIN:DAYLIGHT
TZOFFSETFROM:+0200
TZOFFSETTO:+0300
TZNAME:EEST
DTSTART:20200329T010000
END:DAYLIGHT
BEGIN:STANDARD
TZOFFSETFROM:+0300
TZOFFSETTO:+0200
TZNAME:EET
DTSTART:20201025T010000
END:STANDARD
END:VTIMEZONE
BEGIN:VEVENT
DTSTART;VALUE=DATE:20200127
DTEND;VALUE=DATE:20200128
DTSTAMP:20260420T091716
CREATED:20200121T184647Z
LAST-MODIFIED:20210223T085317Z
UID:62720-1580083200-1580169599@www.stivoz.gr
SUMMARY:3o webinar
DESCRIPTION:“Το πιάτο του αθλητή σε αγώνες εντός και εκτός έδρας”\nΕισηγήτρια: Μπαμπαρούτση Ειρήνη \n-> πληροφορίες / δηλώσεις συμμετοχής \n(Κάντε τη δήλωση\, με λατινικούς χαρακτήρες\, έως την Κυριακή 26/1) \nΓια να μπορέσετε να παρακολουθήσετε τα διαδικτυακά σεμινάρια θα πρέπει να έχετε εγκατεστημένη στον υπολογιστή σας μία πρόσφατη έκδοση της εφαρμογής flash player.\nhttps://get.adobe.com/flashplayer/\nΌταν θα πλησιάζει η ώρα έναρξης του διαδικτυακού σεμιναρίου (τη Δευτέρα στις 21.00) θα πρέπει να κάνετε τα ακόλουθα τρία βήματα:\n1. Για να παρακολουθήσουμε τα σεμινάρια μπαίνουμε στη διεύθυνση:\nhttps://go.myownconference.com/en/y010848f013/-\n2. Στο πεδίο display name δηλώνουμε το πραγματικό μας όνομα με λατινικούς χαρακτήρες\n3. Στη συνέχεια επιλέγουμε Sign In
URL:https://www.stivoz.gr/event/webinar-20192020-3/
CATEGORIES:Ημερολόγιο αγώνων
END:VEVENT
END:VCALENDAR