BEGIN:VCALENDAR
VERSION:2.0
PRODID:-//StivoZ.gr - ECPv5.16.4//NONSGML v1.0//EN
CALSCALE:GREGORIAN
METHOD:PUBLISH
X-WR-CALNAME:StivoZ.gr
X-ORIGINAL-URL:https://www.stivoz.gr
X-WR-CALDESC:StivoZ.gr - Εκδηλώσεις
BEGIN:VTIMEZONE
TZID:Europe/Athens
BEGIN:DAYLIGHT
TZOFFSETFROM:+0200
TZOFFSETTO:+0300
TZNAME:EEST
DTSTART:20190331T010000
END:DAYLIGHT
BEGIN:STANDARD
TZOFFSETFROM:+0300
TZOFFSETTO:+0200
TZNAME:EET
DTSTART:20191027T010000
END:STANDARD
END:VTIMEZONE
BEGIN:VEVENT
DTSTART;TZID=Europe/Athens:20190204T210000
DTEND;TZID=Europe/Athens:20190204T223000
DTSTAMP:20260419T230530
CREATED:20190123T201521Z
LAST-MODIFIED:20210223T085232Z
UID:42914-1549314000-1549319400@www.stivoz.gr
SUMMARY:5o webinar
DESCRIPTION:Ανάπτυξη ειδικής ταχυδύναμης σε ριπτικά και αλτικά αγωνίσματα\nΕισηγητές: Θ.Κυριαζής & Δ.Βασιλικός \n– \nΔήλωση συμμετοχής έως την Κυριακή 3/2\, ->εδώ \n– \nΓια να μπορέσετε να παρακολουθήσετε τα διαδικτυακά σεμινάρια θα πρέπει να έχετε εγκατεστημένη στον υπολογιστή σας μία πρόσφατη έκδοση της εφαρμογής flash player.\nhttps://get.adobe.com/flashplayer/\nΌταν θα πλησιάζει η ώρα έναρξης του διαδικτυακού σεμιναρίου (τη Δευτέρα στις 21.00) θα πρέπει να κάνετε τα ακόλουθα τρία βήματα:\n1. Για να παρακολουθήσουμε τα σεμινάρια μπαίνουμε στη διεύθυνση:\nhttps://go.myownconference.com/en/y010848f013/-\n2. Στο πεδίο display name δηλώνουμε το πραγματικό μας όνομα με λατινικούς χαρακτήρες\n3. Στη συνέχεια επιλέγουμε Sign In
URL:https://www.stivoz.gr/event/webinar-20182019-5/
CATEGORIES:Ημερολόγιο αγώνων
END:VEVENT
END:VCALENDAR