BEGIN:VCALENDAR
VERSION:2.0
PRODID:-//StivoZ.gr - ECPv5.16.4//NONSGML v1.0//EN
CALSCALE:GREGORIAN
METHOD:PUBLISH
X-WR-CALNAME:StivoZ.gr
X-ORIGINAL-URL:https://www.stivoz.gr
X-WR-CALDESC:StivoZ.gr - Εκδηλώσεις
BEGIN:VTIMEZONE
TZID:Europe/Athens
BEGIN:DAYLIGHT
TZOFFSETFROM:+0200
TZOFFSETTO:+0300
TZNAME:EEST
DTSTART:20190331T010000
END:DAYLIGHT
BEGIN:STANDARD
TZOFFSETFROM:+0300
TZOFFSETTO:+0200
TZNAME:EET
DTSTART:20191027T010000
END:STANDARD
END:VTIMEZONE
BEGIN:VEVENT
DTSTART;TZID=Europe/Athens:20190603T210000
DTEND;TZID=Europe/Athens:20190603T223000
DTSTAMP:20260419T184707
CREATED:20190523T210245Z
LAST-MODIFIED:20210223T085259Z
UID:50135-1559595600-1559601000@www.stivoz.gr
SUMMARY:10ο webinar
DESCRIPTION:«Προκαταλήψεις σε ζητήματα ντόπινγκ στον πρωταθλητισμό και σύγχρονα εργαλεία αποτροπής τους (πρόγραμμα SAFEYOU)». \nΤο σεμινάριο γίνεται στο πλαίσιο του προγράμματος της IAAF για την καταπολέμηση του ντόπινγκ και εισηγητές θα είναι οι συντονιστές του προγράμματος SAFEYOU στην Ελλάδα Χαράλαμπος Τσορμπατζούδης και Βασίλειος Μπαρκούκης. \n– \nΔήλωση συμμετοχής έως το Σάββατο 1/6\, ->εδώ \n– \nΓια να μπορέσετε να παρακολουθήσετε τα διαδικτυακά σεμινάρια θα πρέπει να έχετε εγκατεστημένη στον υπολογιστή σας μία πρόσφατη έκδοση της εφαρμογής flash player.\nhttps://get.adobe.com/flashplayer/\nΌταν θα πλησιάζει η ώρα έναρξης του διαδικτυακού σεμιναρίου (τη Δευτέρα στις 21.00) θα πρέπει να κάνετε τα ακόλουθα τρία βήματα:\n1. Για να παρακολουθήσουμε τα σεμινάρια μπαίνουμε στη διεύθυνση:\nhttps://go.myownconference.com/en/y010848f013/-\n2. Στο πεδίο display name δηλώνουμε το πραγματικό μας όνομα με λατινικούς χαρακτήρες\n3. Στη συνέχεια επιλέγουμε Sign In
URL:https://www.stivoz.gr/event/webinar-20182019-10/
CATEGORIES:Ημερολόγιο αγώνων
END:VEVENT
END:VCALENDAR