BEGIN:VCALENDAR
VERSION:2.0
PRODID:-//StivoZ.gr - ECPv5.16.4//NONSGML v1.0//EN
CALSCALE:GREGORIAN
METHOD:PUBLISH
X-WR-CALNAME:StivoZ.gr
X-ORIGINAL-URL:https://www.stivoz.gr
X-WR-CALDESC:StivoZ.gr - Εκδηλώσεις
BEGIN:VTIMEZONE
TZID:Europe/Athens
BEGIN:STANDARD
TZOFFSETFROM:+0200
TZOFFSETTO:+0200
TZNAME:EET
DTSTART:20170101T000000
END:STANDARD
END:VTIMEZONE
BEGIN:VEVENT
DTSTART;VALUE=DATE:20171123
DTEND;VALUE=DATE:20260420
DTSTAMP:20260419T221757
CREATED:20171120T210248Z
LAST-MODIFIED:20210223T085107Z
UID:29261-1511395200-0@www.stivoz.gr
SUMMARY:4ο διαδ.σεμινάριο
DESCRIPTION:Θεμα: “Προπόνηση δύναμης\, μηχανικά πλεονεκτήματα και ενίσχυση της αθλητικής απόδοσης”\nΕισηγητής: Πέτρος Κυπριανού \n-> Εισηγήσεις \n-> video διάλεξης ΤΕΦΑΑ
URL:https://www.stivoz.gr/event/webinar-20171123/
CATEGORIES:Ημερολόγιο αγώνων
END:VEVENT
END:VCALENDAR