BEGIN:VCALENDAR
VERSION:2.0
PRODID:-//StivoZ.gr - ECPv5.16.4//NONSGML v1.0//EN
CALSCALE:GREGORIAN
METHOD:PUBLISH
X-WR-CALNAME:StivoZ.gr
X-ORIGINAL-URL:https://www.stivoz.gr
X-WR-CALDESC:StivoZ.gr - Εκδηλώσεις
BEGIN:VTIMEZONE
TZID:Europe/Athens
BEGIN:DAYLIGHT
TZOFFSETFROM:+0200
TZOFFSETTO:+0300
TZNAME:EEST
DTSTART:20090329T010000
END:DAYLIGHT
BEGIN:STANDARD
TZOFFSETFROM:+0300
TZOFFSETTO:+0200
TZNAME:EET
DTSTART:20091025T010000
END:STANDARD
END:VTIMEZONE
BEGIN:VEVENT
DTSTART;VALUE=DATE:20090912
DTEND;VALUE=DATE:20090914
DTSTAMP:20260421T101629
CREATED:20090306T091659Z
LAST-MODIFIED:20181218T105431Z
UID:28286-1252713600-1252886399@www.stivoz.gr
SUMMARY:GrandPrix final - Θεσ/νίκη
DESCRIPTION:Final Timetable (Updated on 03/09/2009)\nhttp://www.wafthessaloniki2009.gr/timetable.php \nΣχετικά θέματα:\nhttp://www.stivoz.gr/?p=16811\nhttp://www.stivoz.gr/?p=10798 (Α’)\nhttp://www.stivoz.gr/?p=10796\nhttp://www.stivoz.gr/?p=10796 (Β’)\nhttp://www.stivoz.gr/?p=16811 (αποτελέσματα) \nSaturday 12 September 2009 \nTIME DISCIPLINE\n18:00 Hammer Throw (W)\n18:10 Pole Vault (W)\n18:15 3.000m Steeplechase (W)\n18:30 Long Jump (W)\n18:40 400m Hurdles (M)\n18:55 3.000m (M)\n19:10 Discus Throw (M)\n19:20 100m Hurdles (W)\n19:25 High Jump (M)\n19:40 400m (M)\n19:55 5.000m (W)\n20:15 Triple Jump (M)\n20:20 Javelin Throw (W)\n20:25 1.500m (W)\n20:30 Shot Put (M)\n20:40 200m (W)\n20:55 800m (M)\n21:10 100m (M) \nSunday 13 September 2009 \nTIME DISCIPLINE\n18:00 Hammer Throw (M)\n18:15 Pole Vault (M)\n18:20 Long Jump (M)\n18:25 400m Hurdles (W)\n18:35 Shot Put (W)\n18:40 5.000m (M)\n19:05 800m (W)\n19:10 Discus Throw (W)\n19:15 High Jump (W)\n19:20 1.500m (M)\n19:40 400m (W)\n20:00 3.000m Steeplechase (M)\n20:15 Triple Jump (W)\n20:25 200m (M)\n20:30 Javelin Throw (M)\n20:40 3.000m (W)\n21:00 100m (W)\n21:15 110m Hurdles (M)
URL:https://www.stivoz.gr/event/waf2009/
CATEGORIES:Ημερολόγιο αγώνων
END:VEVENT
END:VCALENDAR