BEGIN:VCALENDAR
VERSION:2.0
PRODID:-//StivoZ.gr - ECPv5.16.4//NONSGML v1.0//EN
CALSCALE:GREGORIAN
METHOD:PUBLISH
X-WR-CALNAME:StivoZ.gr
X-ORIGINAL-URL:https://www.stivoz.gr
X-WR-CALDESC:StivoZ.gr - Εκδηλώσεις
BEGIN:VTIMEZONE
TZID:Europe/Athens
BEGIN:DAYLIGHT
TZOFFSETFROM:+0200
TZOFFSETTO:+0300
TZNAME:EEST
DTSTART:20080330T010000
END:DAYLIGHT
BEGIN:STANDARD
TZOFFSETFROM:+0300
TZOFFSETTO:+0200
TZNAME:EET
DTSTART:20081026T010000
END:STANDARD
END:VTIMEZONE
BEGIN:VEVENT
DTSTART;VALUE=DATE:20080913
DTEND;VALUE=DATE:20080915
DTSTAMP:20260421T020622
CREATED:20070918T100415Z
LAST-MODIFIED:20181218T105328Z
UID:28150-1221307200-1221415200@www.stivoz.gr
SUMMARY:World Athletics Final - Stuttgart
DESCRIPTION:Σχετικά θέματα:\nhttp://www.stivoz.com/forum/showthread.php?t=2476\nhttp://www.stivoz.gr/?p=20376 \nhttp://www.weltfinale.de/ \nIAAF World Athletics Tour 2008\nβαθμολογική κατάσταση: http://www.iaaf.org/GP08/standings/index.html \nIAAF Golden League & Super Grand Prix: 20-16-14-12-10-8-6-4p. (3p: 9-12η θεση σε δρομους 1500+)\nIAAF Grand Prix: 10-8-7-6-5-4-3-2p.(1p: 9-12η θεση σε δρομους 1500+)\nArea Permit Meetings: 6-4-2-1p. \nΟι 5 καλυτερες επιδοσεις (ή 4 ρίψεις) μετράνε για την αξιολόγηση -και τη συμμετοχή κατόπιν στον τελικό. \nΘα δοθει και μια wild card ανα αγωνισμα
URL:https://www.stivoz.gr/event/waf2008/
CATEGORIES:Ημερολόγιο αγώνων
END:VEVENT
END:VCALENDAR