BEGIN:VCALENDAR
VERSION:2.0
PRODID:-//StivoZ.gr - ECPv5.16.4//NONSGML v1.0//EN
CALSCALE:GREGORIAN
METHOD:PUBLISH
X-WR-CALNAME:StivoZ.gr
X-ORIGINAL-URL:https://www.stivoz.gr
X-WR-CALDESC:StivoZ.gr - Εκδηλώσεις
BEGIN:VTIMEZONE
TZID:Europe/Athens
BEGIN:DAYLIGHT
TZOFFSETFROM:+0200
TZOFFSETTO:+0300
TZNAME:EEST
DTSTART:20240331T010000
END:DAYLIGHT
BEGIN:STANDARD
TZOFFSETFROM:+0300
TZOFFSETTO:+0200
TZNAME:EET
DTSTART:20241027T010000
END:STANDARD
END:VTIMEZONE
BEGIN:VEVENT
DTSTART;VALUE=DATE:20240519
DTEND;VALUE=DATE:20240520
DTSTAMP:20260420T062406
CREATED:20240515T190743Z
LAST-MODIFIED:20240520T203139Z
UID:114999-1716076800-1716163199@www.stivoz.gr
SUMMARY:Βενιζέλεια – Χανιά
DESCRIPTION:Σχετικά θέματα:\n– www.stivoz.gr/chania-diplo-atomiko-i-tsoykala-xana-psila-i-adamopoulou/\n– www.stivoz.gr/venizeleia-chania-2024/ (αποτελέσματα) \n-> ιστορικό \nΠρόγραμμα: \n16.40 Σφυροβολία (Α)\n16.55 Επί Κοντώ (Γ)\n17.00 110μ. εμπ. (Α) 1η σειρά\n17.07 110μ. εμπ. (Α) 2η σειρά\n17.25 100μ. εμπ. (Γ)\n17.35 Ύψος (Γ)\n17.40 100μ. (Γ) 1η σειρά\n17.46 100μ. (Γ) 2η σειρά\n17.55 100μ. (Α) 1η σειρά\n18.01 100μ. (Α) 2η σειρά\n18.07 100μ. (Α) 3η σειρά\n18.10 Σφαιροβολία (Α)\n18.20 Τριπλούν (Α)\n18.20 400μ. εμπ. (Γ)\n18.35 1500μ. (Α)\n18.50 200μ. (Γ) 1η σειρά\n18.56 200μ. (Γ) 2η σειρά
URL:https://www.stivoz.gr/event/venizeleia-chania-2024/
CATEGORIES:Ημερολόγιο αγώνων
END:VEVENT
END:VCALENDAR