BEGIN:VCALENDAR
VERSION:2.0
PRODID:-//StivoZ.gr - ECPv5.16.4//NONSGML v1.0//EN
CALSCALE:GREGORIAN
METHOD:PUBLISH
X-WR-CALNAME:StivoZ.gr
X-ORIGINAL-URL:https://www.stivoz.gr
X-WR-CALDESC:StivoZ.gr - Εκδηλώσεις
BEGIN:VTIMEZONE
TZID:Europe/Athens
BEGIN:STANDARD
TZOFFSETFROM:+0200
TZOFFSETTO:+0200
TZNAME:EET
DTSTART:20180101T000000
END:STANDARD
END:VTIMEZONE
BEGIN:VEVENT
DTSTART;VALUE=DATE:20180602
DTEND;VALUE=DATE:20260422
DTSTAMP:20260421T073826
CREATED:20180427T084702Z
LAST-MODIFIED:20230526T082327Z
UID:29344-1527897600-0@www.stivoz.gr
SUMMARY:70α Βενιζέλεια (Χανιά)
DESCRIPTION:Σχετικά θέματα:\n– www.stivoz.com/content.php?6705-70a-Venizeleia-Dynati-kai-sta-200m-i-Spanoudaki\n– www.stivoz.com/forum/showthread.php?17683 (αποτελέσματα) \n-> livestream \nΝέο Πρόγραμμα: \n14.30 	ΑΛΜΑ ΤΡΙΠΛΟΥΝ 	ΓΥΝΑΙΚΩΝ\n15.30 	ΑΚΟΝΤΙΣΜΟΣ 	ΠΑΙΔΩΝ 	(Κ18)\n15.45 	80 μ 	ΠΠ Α΄ 	(K16)\n16.00 	ΑΛΜΑ ΣΕ ΜΗΚΟΣ 	ΓΥΝΑΙΚΩΝ\n16.10 	80 μ 	ΠΚ Α΄ 	(K16)\n16.20 	ΣΦΑΙΡΟΒΟΛΙΑ 	ΕΦΗΒΩΝ (K20) 	ΠΠ Α΄ (K16)\n16.40 	ΑΚΟΝΤΙΣΜΟΣ 	ΓΥΝΑΙΚΩΝ\n16.40 	600 μ. 	ΠΠ – ΠΚ Α΄ 	(Κ16)\n16.55 	100 μ. 	ΑΝΔΡΩΝ\n17.10 	ΑΛΜΑ ΣΕ ΜΗΚΟΣ 	ΑΝΔΡΩΝ\n17.15 	100 μ. 	ΓΥΝΑΙΚΩΝ\n17.45 	100 μ. ΕΜΠΟΔΙΑ 	ΓΥΝΑΙΚΩΝ\n17.55 	ΕΠΙΣΗΜΗ ΤΕΛΕΤΗ ΕΝΑΡΞΗΣ\n18.05 	ΣΚΥΤΑΛΟΔΡΟΜΙΑ 	ΕΙΡΗΝΗΣ 	\n18.35 	ΑΛΜΑ ΤΡΙΠΛΟΥΝ 	ΑΝΔΡΩΝ\n18.40 	200 μ. 	ΑΝΔΡΩΝ\n18.55 	200 μ. 	ΓΥΝΑΙΚΩΝ\n19.05 	ΔΙΣΚΟΒΟΛΙΑ 	ΚΟΡΑΣΙΔΩΝ 	(Κ18)\n19.10 	400 μ. 	ΑΝΔΡΩΝ\n19.30 	400 μ. 	ΓΥΝΑΙΚΩΝ\n19.55 	110 μ. ΕΜΠΟΔΙΑ 	ΑΝΔΡΩΝ\n20.15 	8 Χ 50 	ΑΚΑΔΗΜΙΕΣ 	Α.Ο. ΚΥΔΩΝΑ\n20.30 	300 μ. 	ΠΠ Α΄-ΠΚ Α΄ 	(Κ16) \nΔηλώσεις συμμετοχών μέχρι ΠΑΡΑΣΚΕΥΗ  25  ΜΑΪΟΥ 2018\nΑ.Ο. ΚΥΔΩΝ ΧΑΝΙΩΝ:   aokydon@otenet.gr
URL:https://www.stivoz.gr/event/venizeleia-2018/
CATEGORIES:Ημερολόγιο αγώνων
END:VEVENT
END:VCALENDAR