BEGIN:VCALENDAR
VERSION:2.0
PRODID:-//StivoZ.gr - ECPv5.16.4//NONSGML v1.0//EN
CALSCALE:GREGORIAN
METHOD:PUBLISH
X-WR-CALNAME:StivoZ.gr
X-ORIGINAL-URL:https://www.stivoz.gr
X-WR-CALDESC:StivoZ.gr - Εκδηλώσεις
BEGIN:VTIMEZONE
TZID:Europe/Athens
BEGIN:STANDARD
TZOFFSETFROM:+0200
TZOFFSETTO:+0200
TZNAME:EET
DTSTART:20090101T000000
END:STANDARD
END:VTIMEZONE
BEGIN:VEVENT
DTSTART;VALUE=DATE:20090601
DTEND;VALUE=DATE:20260421
DTSTAMP:20260420T110041
CREATED:20081101T094513Z
LAST-MODIFIED:20230526T082505Z
UID:28267-1243814400-0@www.stivoz.gr
SUMMARY:Βενιζέλεια (Χανιά)
DESCRIPTION:www.venizelia.gr \n15.45 Τριπλουν Α\n17.00 Βενιζελειος δρομος\n17.30 Μηκος Γ\n18.00 Τελετη εναρξης\n18.40 Μηκος Α\n18.45 Υψος Α\n19.00 Ακοντισμος Γ\n19.00 400εμπ Α\n19.20 400εμπ Γ\n19.30 100 Γ\n19.40 100 Α 1η σειρα\n19.45 100 Α 2η σειρα\n20.00 Τριπλουν Γ\n20.10 Ακοντισμος Α\n20.10 110 εμπ Α\n20.20 100εμπ Γ\n20.30 400 Γ\n20.40 400 Α\n20.50 200 Α 1η σειρα\n20.55 200 Α 2η σειρα \n(τηλ.καλυψη ΕΤ1 \, 19.00-21.00)
URL:https://www.stivoz.gr/event/venizeleia-2009/
CATEGORIES:Ημερολόγιο αγώνων
END:VEVENT
END:VCALENDAR