BEGIN:VCALENDAR
VERSION:2.0
PRODID:-//StivoZ.gr - ECPv5.16.4//NONSGML v1.0//EN
CALSCALE:GREGORIAN
METHOD:PUBLISH
X-WR-CALNAME:StivoZ.gr
X-ORIGINAL-URL:https://www.stivoz.gr
X-WR-CALDESC:StivoZ.gr - Εκδηλώσεις
BEGIN:VTIMEZONE
TZID:Europe/Athens
BEGIN:STANDARD
TZOFFSETFROM:+0200
TZOFFSETTO:+0200
TZNAME:EET
DTSTART:20090101T000000
END:STANDARD
END:VTIMEZONE
BEGIN:VEVENT
DTSTART;VALUE=DATE:20090720
DTEND;VALUE=DATE:20260422
DTSTAMP:20260421T040014
CREATED:20081101T094751Z
LAST-MODIFIED:20181208T172920Z
UID:28271-1248048000-0@www.stivoz.gr
SUMMARY:Βαρδινογιάννεια (Ρέθυμνο)
DESCRIPTION:Σχετικά θέματα:\nhttp://www.stivoz.gr/?p=16803\nhttp://www.stivoz.gr/?p=10837\nhttp://www.stivoz.gr/?p=16803 (αποτελέσματα) \nΤO ΤΕΛΙΚΟ ΠΡOΓΡΑΜΜΑ  \n15.15   Σφυροβολία Ανδρών\n17.10   Επίσημη Τελετή Έναρξης\n17.40   Δισκοβολία Ανδρών\n17.45   Μήκος Ανδρών\n17.50   100μ. Ανδρών (Α’ Σειρά)  \n18.05   100μ. Ανδρών (Β’ Σειρά)\n18.15   100μ. Γυναικών\n18.20   Άλμα Επί Κοντώ Γυναικών\n18.30   110μ. με εμπόδια Ανδρών (Α’ Σειρά)\n18.37   110μ. με εμπόδια Ανδρών (Β’ Σειρά)\n18.45   100μ. με εμπόδια Γυναικών\n19.00   400μ. με εμπόδια Γυναικών\n19.05   Ακοντισμός Γυναικών\n19.10   400μ. με εμπόδια Ανδρών (Α’ Σειρά)\n19.15   Τριπλούν Γυναικών\n19.20   400μ. με εμπόδια Ανδρών (Β’ Σειρά)\n19.30   400μ. Γυναικών\n19.40   200μ. Ανδρών (Β’ Σειρά)\n19.50   200μ. Γυναικών (Β’ Σειρά)  \n20.05   200μ. Γυναικών (Α’ Σειρά)\n20.15   200μ. Ανδρών (Α’ Σειρά)\n20.30   200μ. Ανδρών (Γ’ Σειρά)
URL:https://www.stivoz.gr/event/vardinogianneia-rethymno/
CATEGORIES:Ημερολόγιο αγώνων
END:VEVENT
END:VCALENDAR