BEGIN:VCALENDAR
VERSION:2.0
PRODID:-//StivoZ.gr - ECPv5.16.4//NONSGML v1.0//EN
CALSCALE:GREGORIAN
METHOD:PUBLISH
X-WR-CALNAME:StivoZ.gr
X-ORIGINAL-URL:https://www.stivoz.gr
X-WR-CALDESC:StivoZ.gr - Εκδηλώσεις
BEGIN:VTIMEZONE
TZID:Europe/Athens
BEGIN:DAYLIGHT
TZOFFSETFROM:+0200
TZOFFSETTO:+0300
TZNAME:EEST
DTSTART:20090329T010000
END:DAYLIGHT
BEGIN:STANDARD
TZOFFSETFROM:+0300
TZOFFSETTO:+0200
TZNAME:EET
DTSTART:20091025T010000
END:STANDARD
END:VTIMEZONE
BEGIN:VEVENT
DTSTART;VALUE=DATE:20090926
DTEND;VALUE=DATE:20090928
DTSTAMP:20260421T120759
CREATED:20090918T105138Z
LAST-MODIFIED:20181208T172919Z
UID:28342-1253970000-1254063600@www.stivoz.gr
SUMMARY:Βαλκανικοί Βετεράνων - Σμύρνη
DESCRIPTION:http://www.balkansampiyonasi.com/eng/program.php
URL:https://www.stivoz.gr/event/valkanikoi-veteranon-smyrni/
CATEGORIES:Ημερολόγιο αγώνων
END:VEVENT
END:VCALENDAR