BEGIN:VCALENDAR
VERSION:2.0
PRODID:-//StivoZ.gr - ECPv5.16.4//NONSGML v1.0//EN
CALSCALE:GREGORIAN
METHOD:PUBLISH
X-WR-CALNAME:StivoZ.gr
X-ORIGINAL-URL:https://www.stivoz.gr
X-WR-CALDESC:StivoZ.gr - Εκδηλώσεις
BEGIN:VTIMEZONE
TZID:Europe/Athens
BEGIN:DAYLIGHT
TZOFFSETFROM:+0200
TZOFFSETTO:+0300
TZNAME:EEST
DTSTART:20080330T010000
END:DAYLIGHT
BEGIN:STANDARD
TZOFFSETFROM:+0300
TZOFFSETTO:+0200
TZNAME:EET
DTSTART:20081026T010000
END:STANDARD
END:VTIMEZONE
BEGIN:VEVENT
DTSTART;VALUE=DATE:20080719
DTEND;VALUE=DATE:20080721
DTSTAMP:20260419T182614
CREATED:20071013T093016Z
LAST-MODIFIED:20181208T172927Z
UID:28175-1216483200-1216587600@www.stivoz.gr
SUMMARY:Βαλκανικοί Ε/Ν
DESCRIPTION:Σχετικά θέματα:\nhttp://www.stivoz.gr/?p=16737 (αποτελέσματα) \nΠρούσα (Τουρκία) \nBALKAN JUNİOR CHAMPIONSHIPS\nBursa\, 19-20 July 2008 \nSaturday\, 19 July \n15:55 Hammer Throw – M\n16:00 Pole Vault – W\n17:00 Opening Ceremony\n17:20 400m H – W\n17:25 Discus Throw – W\n17:35 400m H – M\n17:40 Long Jump – M\n17:45 High Jump – M\n17:50 100m – W\n18:00 100m – M\n18:05 Shot Put – M\n18:15 1500m – W\n18:25 1500m – M\n18:35 400m – W\n18:45 400m – M\n18:50 Javelin Throw – W\n19:00 5000m – M\n19:05 Triple Jump – W\n19:25 3000m SC – W\n19:45 4x100m – W\n20:00 4x100m – M  \nSunday\, 20 July  \n16:00 Pole Vault – M\n16:05 Hammer Throw – W\n16:50 Long Jump – W\n17:00 110m H – M\n17:05 Discus Throw – M\n17:20 100m H – W\n17:40 800m – W\n17:50 800m – M\n17:50 High Jump – W\n18:00 3000m ST – M\n18:00 Shot Put – W\n18:20 200m – W\n18:20 Triple Jump – M\n18:25 Javelin Throw – M\n18:30 200m – M\n18:45 3000m – W\n19:05 3000m – M\n19:25 4x400m – W\n19:40 4x400m – M
URL:https://www.stivoz.gr/event/valkanikoi-e-n/
CATEGORIES:Ημερολόγιο αγώνων
END:VEVENT
END:VCALENDAR