BEGIN:VCALENDAR
VERSION:2.0
PRODID:-//StivoZ.gr - ECPv5.16.4//NONSGML v1.0//EN
CALSCALE:GREGORIAN
METHOD:PUBLISH
X-WR-CALNAME:StivoZ.gr
X-ORIGINAL-URL:https://www.stivoz.gr
X-WR-CALDESC:StivoZ.gr - Εκδηλώσεις
BEGIN:VTIMEZONE
TZID:Europe/Athens
BEGIN:DAYLIGHT
TZOFFSETFROM:+0200
TZOFFSETTO:+0300
TZNAME:EEST
DTSTART:20190331T010000
END:DAYLIGHT
BEGIN:STANDARD
TZOFFSETFROM:+0300
TZOFFSETTO:+0200
TZNAME:EET
DTSTART:20191027T010000
END:STANDARD
END:VTIMEZONE
BEGIN:VEVENT
DTSTART;VALUE=DATE:20190420
DTEND;VALUE=DATE:20190421
DTSTAMP:20260420T000553
CREATED:20190225T144716Z
LAST-MODIFIED:20191230T155049Z
UID:45940-1555718400-1555804799@www.stivoz.gr
SUMMARY:Βαλκανικοί & Πανελ.πρωτ. 20χλμ βάδην (Αλεξανδρούπολη)
DESCRIPTION:Σχετικά θέματα:\n– https://www.stivoz.gr/papamichael-tsinopoulou-protoi-se-panellinio-balkaniko-20km-vadin-orio-filtisakou/\n– https://www.stivoz.gr/valkanikoi-vadin-panel-protathlima-20km-alexandroupoli2019/ (αποτελέσματα) \n-> προκήρυξη \nΠρόγραμμα: \n15:30 Τελετή Έναρξης / Opening Ceremony\n15:45 5χλμ. Βάδην/5Km Race Walking K18 Κορασίδες/U18 Girls\n16:20 10χλμ. Βάδην/10Km Race Walking K20 Έφηβοι/U20 Men\n16:22 10χλμ. Βάδην/10Km Race Walking K18 Παίδες/U18 Boys\n16:24 10χλμ. Βάδην/10Km Race Walking K20 Νεάνιδες/U20 Women\n17:35 20χλμ. Βάδην/20Km Race Walking Ανδρών/Senior Men\n17:37 20χλμ. Βάδην/20Km Race Walking Γυναικών/Senior Women \nΗ διαδρομή του αγώνα είναι κυκλική\, απόστασης 2.000μ. ο γύρος\, ασφαλτοστρωμένη και βρίσκεται στο κέντρο της πόλης της Αλεξανδρούπολης.\n->χάρτης διαδρομής \nΣτον αγώνα δικαίωμα συμμετοχής έχουν οι αθλητές-τριες που έχουν γεννηθεί το 2000 και μεγαλύτεροι. \nΟι δηλώσεις συμμετοχής πρέπει να σταλούν στον Σ.Ε.Γ.Α.Σ. με email το αργότερο μέχρι και τη Δευτέρα 1 Απριλίου 2019 και ώρα 14:00 στην ηλεκτρονική διεύθυνση entries@segas.gr
URL:https://www.stivoz.gr/event/valkaniko-vadin-2019/
CATEGORIES:Ημερολόγιο αγώνων
END:VEVENT
END:VCALENDAR