BEGIN:VCALENDAR
VERSION:2.0
PRODID:-//StivoZ.gr - ECPv5.16.4//NONSGML v1.0//EN
CALSCALE:GREGORIAN
METHOD:PUBLISH
X-WR-CALNAME:StivoZ.gr
X-ORIGINAL-URL:https://www.stivoz.gr
X-WR-CALDESC:StivoZ.gr - Εκδηλώσεις
BEGIN:VTIMEZONE
TZID:Europe/Athens
BEGIN:STANDARD
TZOFFSETFROM:+0200
TZOFFSETTO:+0200
TZNAME:EET
DTSTART:20090101T000000
END:STANDARD
END:VTIMEZONE
BEGIN:VEVENT
DTSTART;VALUE=DATE:20090314
DTEND;VALUE=DATE:20260423
DTSTAMP:20260422T091406
CREATED:20081101T093909Z
LAST-MODIFIED:20181208T172925Z
UID:28259-1236988800-0@www.stivoz.gr
SUMMARY:Βαλκανικό Πρωτάθλημα Ανωμάλου δρόμου
DESCRIPTION:Σχετικά θέματα:\nhttp://www.stivoz.gr/?p=18967\nhttp://www.stivoz.gr/?p=20421
URL:https://www.stivoz.gr/event/valkaniko-protathlima-anomaloy-dromo/
CATEGORIES:Ημερολόγιο αγώνων
END:VEVENT
END:VCALENDAR