BEGIN:VCALENDAR
VERSION:2.0
PRODID:-//StivoZ.gr - ECPv5.16.4//NONSGML v1.0//EN
CALSCALE:GREGORIAN
METHOD:PUBLISH
X-WR-CALNAME:StivoZ.gr
X-ORIGINAL-URL:https://www.stivoz.gr
X-WR-CALDESC:StivoZ.gr - Εκδηλώσεις
BEGIN:VTIMEZONE
TZID:Europe/Athens
BEGIN:STANDARD
TZOFFSETFROM:+0200
TZOFFSETTO:+0200
TZNAME:EET
DTSTART:20110101T000000
END:STANDARD
END:VTIMEZONE
BEGIN:VEVENT
DTSTART;VALUE=DATE:20110312
DTEND;VALUE=DATE:20260423
DTSTAMP:20260422T052635
CREATED:20110113T120609Z
LAST-MODIFIED:20181208T172859Z
UID:28516-1299888000-0@www.stivoz.gr
SUMMARY:Βαλκανικό ανωμάλου
DESCRIPTION:http://www.serbia-athletics.org.rs/ \nLive Results: http://www.ass.org.rs/sr/rezultati/live \nΣχετικα θέματα:\nhttp://www.stivoz.gr/?p=10375
URL:https://www.stivoz.gr/event/valkaniko-anomaloy-2/
CATEGORIES:Ημερολόγιο αγώνων
END:VEVENT
END:VCALENDAR