BEGIN:VCALENDAR
VERSION:2.0
PRODID:-//StivoZ.gr - ECPv5.16.4//NONSGML v1.0//EN
CALSCALE:GREGORIAN
METHOD:PUBLISH
X-WR-CALNAME:StivoZ.gr
X-ORIGINAL-URL:https://www.stivoz.gr
X-WR-CALDESC:StivoZ.gr - Εκδηλώσεις
BEGIN:VTIMEZONE
TZID:Europe/Athens
BEGIN:DAYLIGHT
TZOFFSETFROM:+0200
TZOFFSETTO:+0300
TZNAME:EEST
DTSTART:20250330T010000
END:DAYLIGHT
BEGIN:STANDARD
TZOFFSETFROM:+0300
TZOFFSETTO:+0200
TZNAME:EET
DTSTART:20251026T010000
END:STANDARD
END:VTIMEZONE
BEGIN:VEVENT
DTSTART;VALUE=DATE:20250118
DTEND;VALUE=DATE:20250119
DTSTAMP:20260422T122728
CREATED:20250107T072250Z
LAST-MODIFIED:20250118T180754Z
UID:120696-1737158400-1737244799@www.stivoz.gr
SUMMARY:φεστ. αλμάτων "Β.Κουρκουτίδης" (Θεσσαλονίκη)
DESCRIPTION:κατ. D\nκλειστό “Τασούλα Κελεσίδου” \nΣχετικά θέματα:\n– www.stivoz.gr/v-kourkoutidis-2025/ (αποτελέσματα)
URL:https://www.stivoz.gr/event/v-kourkoutidis-2025/
CATEGORIES:Ημερολόγιο αγώνων
END:VEVENT
END:VCALENDAR