BEGIN:VCALENDAR
VERSION:2.0
PRODID:-//StivoZ.gr - ECPv5.16.4//NONSGML v1.0//EN
CALSCALE:GREGORIAN
METHOD:PUBLISH
X-WR-CALNAME:StivoZ.gr
X-ORIGINAL-URL:https://www.stivoz.gr
X-WR-CALDESC:StivoZ.gr - Εκδηλώσεις
BEGIN:VTIMEZONE
TZID:Europe/Athens
BEGIN:DAYLIGHT
TZOFFSETFROM:+0200
TZOFFSETTO:+0300
TZNAME:EEST
DTSTART:20170326T010000
END:DAYLIGHT
BEGIN:STANDARD
TZOFFSETFROM:+0300
TZOFFSETTO:+0200
TZNAME:EET
DTSTART:20171029T010000
END:STANDARD
END:VTIMEZONE
BEGIN:VEVENT
DTSTART;VALUE=DATE:20170622
DTEND;VALUE=DATE:20170626
DTSTAMP:20260419T215745
CREATED:20170621T094937Z
LAST-MODIFIED:20210622T080929Z
UID:29232-1498150800-1498431600@www.stivoz.gr
SUMMARY:πρωτάθλημα ΗΠΑ & Τζαμάικα
DESCRIPTION:ΗΠΑ\n-> πρόγραμμα\n-> Live results\n-> startlist \nΤζαμάικα\n-> Results \nΣχετικά θέματα:\n– www.stivoz.com/content.php?6234-Ta-US-trials-stis-22-25-Iouniou-Protathlima-kai-sti-Jamaica\n– www.stivoz.com/content.php?6238-Sacramento-O-Mead-to-10ari-ektos-o-Rupp-Xekinisan-ta-100m-Xana-egkyos-etrexe-i-Montano\n– www.stivoz.com/content.php?6240-Bolida-i-Thompson-sto-Kingston-epanerxetai-o-Blake-O-Gatlin-nikitis-US-trials\n– www.stivoz.com/content.php?6243-Fotia-o-McLeod-sto-Kingston-Sta-6m-o-Kendricks-sto-Sacramento-Ta-Kenyatika-trials-sto-Nairobi\n– www.stivoz.com/content.php?6248-Finale-sta-trials-me-fovero-400ari-me-empodia-gynaikwn
URL:https://www.stivoz.gr/event/usa-jam-2017/
CATEGORIES:Ημερολόγιο αγώνων
END:VEVENT
END:VCALENDAR