BEGIN:VCALENDAR
VERSION:2.0
PRODID:-//StivoZ.gr - ECPv5.16.4//NONSGML v1.0//EN
CALSCALE:GREGORIAN
METHOD:PUBLISH
X-WR-CALNAME:StivoZ.gr
X-ORIGINAL-URL:https://www.stivoz.gr
X-WR-CALDESC:StivoZ.gr - Εκδηλώσεις
BEGIN:VTIMEZONE
TZID:Europe/Athens
BEGIN:DAYLIGHT
TZOFFSETFROM:+0200
TZOFFSETTO:+0300
TZNAME:EEST
DTSTART:20090329T010000
END:DAYLIGHT
BEGIN:STANDARD
TZOFFSETFROM:+0300
TZOFFSETTO:+0200
TZNAME:EET
DTSTART:20091025T010000
END:STANDARD
END:VTIMEZONE
BEGIN:VEVENT
DTSTART;VALUE=DATE:20090625
DTEND;VALUE=DATE:20090629
DTSTAMP:20260421T184723
CREATED:20090627T085514Z
LAST-MODIFIED:20210622T081024Z
UID:28182-1245945600-1246226400@www.stivoz.gr
SUMMARY:Πρωτάθλημα ΗΠΑ
DESCRIPTION:www.usatf.org \nΣχετικά θέματα:\nhttp://www.stivoz.gr/?p=28182
URL:https://www.stivoz.gr/event/usa-championships-2009/
CATEGORIES:Ημερολόγιο αγώνων
END:VEVENT
END:VCALENDAR