BEGIN:VCALENDAR
VERSION:2.0
PRODID:-//StivoZ.gr - ECPv5.16.4//NONSGML v1.0//EN
CALSCALE:GREGORIAN
METHOD:PUBLISH
X-WR-CALNAME:StivoZ.gr
X-ORIGINAL-URL:https://www.stivoz.gr
X-WR-CALDESC:StivoZ.gr - Εκδηλώσεις
BEGIN:VTIMEZONE
TZID:Europe/Athens
BEGIN:DAYLIGHT
TZOFFSETFROM:+0200
TZOFFSETTO:+0300
TZNAME:EEST
DTSTART:20150329T010000
END:DAYLIGHT
BEGIN:STANDARD
TZOFFSETFROM:+0300
TZOFFSETTO:+0200
TZNAME:EET
DTSTART:20151025T010000
END:STANDARD
END:VTIMEZONE
BEGIN:VEVENT
DTSTART;VALUE=DATE:20150708
DTEND;VALUE=DATE:20150713
DTSTAMP:20260419T174347
CREATED:20141220T203526Z
LAST-MODIFIED:20230730T101322Z
UID:28929-1436346000-1436734800@www.stivoz.gr
SUMMARY:Παγκ.Πανεπιστημιάδα (Gwangju)
DESCRIPTION:www.gwangju2015.com\n-> Πρόγραμμα/αποτελέσματα \n->
URL:https://www.stivoz.gr/event/universiade-2015/
CATEGORIES:Ημερολόγιο αγώνων
END:VEVENT
END:VCALENDAR