BEGIN:VCALENDAR
VERSION:2.0
PRODID:-//StivoZ.gr - ECPv5.16.4//NONSGML v1.0//EN
CALSCALE:GREGORIAN
METHOD:PUBLISH
X-WR-CALNAME:StivoZ.gr
X-ORIGINAL-URL:https://www.stivoz.gr
X-WR-CALDESC:StivoZ.gr - Εκδηλώσεις
BEGIN:VTIMEZONE
TZID:Europe/Athens
BEGIN:DAYLIGHT
TZOFFSETFROM:+0200
TZOFFSETTO:+0300
TZNAME:EEST
DTSTART:20130331T010000
END:DAYLIGHT
BEGIN:STANDARD
TZOFFSETFROM:+0300
TZOFFSETTO:+0200
TZNAME:EET
DTSTART:20131027T010000
END:STANDARD
END:VTIMEZONE
BEGIN:VEVENT
DTSTART;VALUE=DATE:20130707
DTEND;VALUE=DATE:20130713
DTSTAMP:20260420T110207
CREATED:20130702T163617Z
LAST-MODIFIED:20230730T101333Z
UID:28812-1373187600-1373662800@www.stivoz.gr
SUMMARY:Παγκ.Πανεπιστημιάδα (Καζάν)
DESCRIPTION:7-12/7 είναι τα αγωνίσματα στίβου\, η διοργάνωση είναι 6-17/7\nhttp://kazan2013.ru/en \nΕλληνικες συμμετοχές στίβου:\n>Λεδάκη / επικοντώ: Τετ.10/7\, 6:10μμ (τελ.)\n>Ζαπουνίδου / βάδην: Τετ.10/7\, 8:00πμ\n>Στεργίου / Ύψος: Τετ.10/7\, 5:30 μμ (προκρ.) – Παρ.12/7\, 6:00μμ (τελ.) \n-> ιστορικό\n-> κανονισμοί/όρια\n-> regulations \nΣχετικά θέματα:\n– www.stivoz.com/forum/showthread.php?9297 (ομάδα)\n– www.stivoz.com/forum/showthread.php?9368\n– www.stivoz.com/forum/showthread.php?9404
URL:https://www.stivoz.gr/event/universiade-2013/
CATEGORIES:Ημερολόγιο αγώνων
END:VEVENT
END:VCALENDAR