BEGIN:VCALENDAR
VERSION:2.0
PRODID:-//StivoZ.gr - ECPv5.16.4//NONSGML v1.0//EN
CALSCALE:GREGORIAN
METHOD:PUBLISH
X-WR-CALNAME:StivoZ.gr
X-ORIGINAL-URL:https://www.stivoz.gr
X-WR-CALDESC:StivoZ.gr - Εκδηλώσεις
BEGIN:VTIMEZONE
TZID:Europe/Athens
BEGIN:STANDARD
TZOFFSETFROM:+0200
TZOFFSETTO:+0200
TZNAME:EET
DTSTART:20110101T000000
END:STANDARD
END:VTIMEZONE
BEGIN:VEVENT
DTSTART;VALUE=DATE:20110529
DTEND;VALUE=DATE:20260425
DTSTAMP:20260424T221107
CREATED:20110523T133041Z
LAST-MODIFIED:20181208T172857Z
UID:28607-1306627200-0@www.stivoz.gr
SUMMARY:Τρίτσεια - αγώνες βετεράνων (Αγ.Κοσμάς)
DESCRIPTION:9:00 π.μ. 3.000 μ. Βάδην Ανδρών+Γυναικών και\n9:00 π.μ. Σφαίρα Ανδρών 70+…\n9:30 π.μ. Σφαίρα Ανδρών 60-69\n9:30 π.μ. Μήκος Γυναικών 30+…\n9:30 π.μ. 5.000 μ. Ανδρών 60+… +Γυναικών 30+…\n10:15 π.μ. Δίσκος Γυναικών 30+.. και Δίσκος Ανδρών 60+…\n10:15 π.μ. Ύψος Γυναικών 30+..\n10:15 π.μ. Σφαίρα Ανδρών 35-49\n10:25 π.μ. 100 μ. Γυναικών 30+.. και 100 μ. Ανδρών 35+…\n10:45 π.μ. 400 μ. Ανδρών + Γυναικών –\n10:45 π.μ. Επί κοντώ Ανδρών\n10:45 π.μ. Σφαίρα Γυναικών 30+…\n11:00 π.μ. 5.000 μ. Ανδρών 35-59\n11:00 π.μ. Δίσκος Ανδρών 35-59\n11:00 π.μ. Μήκος Ανδρών 35+…\n11:30 π.μ. Σφαίρα Ανδρών 50-59\n11:45 π.μ. 800 μ. Ανδρών 35+… – Γυναικών 30+..\n11:45 π.μ. Τριπλούν Ανδρών 35+…\n12:00 μ. 200 μ. Ανδρών 35+… – Γυναικών 30+…\n12:00 μ. Σφύρα Ανδρών 35+…\n12:20 μ. 1.500 μ. Ανδρών 35+… –\n12:20 μ. Ακόντιο Ανδρών+ Γυναικών
URL:https://www.stivoz.gr/event/tritseia-agones-veteranon-ag-kosmas/
CATEGORIES:Ημερολόγιο αγώνων
END:VEVENT
END:VCALENDAR