BEGIN:VCALENDAR
VERSION:2.0
PRODID:-//StivoZ.gr - ECPv5.16.4//NONSGML v1.0//EN
CALSCALE:GREGORIAN
METHOD:PUBLISH
X-WR-CALNAME:StivoZ.gr
X-ORIGINAL-URL:https://www.stivoz.gr
X-WR-CALDESC:StivoZ.gr - Εκδηλώσεις
BEGIN:VTIMEZONE
TZID:Europe/Athens
BEGIN:STANDARD
TZOFFSETFROM:+0200
TZOFFSETTO:+0200
TZNAME:EET
DTSTART:20070101T000000
END:STANDARD
END:VTIMEZONE
BEGIN:VEVENT
DTSTART;VALUE=DATE:20071209
DTEND;VALUE=DATE:20260425
DTSTAMP:20260424T022218
CREATED:20070818T203320Z
LAST-MODIFIED:20181218T110255Z
UID:28126-1197158400-0@www.stivoz.gr
SUMMARY:14ο Πανευρωπαικό πρωτ. ανωμάλου δρ. - Toro (ESP)
DESCRIPTION:http://www.rfea.es/competi/2007toro/esp/main.asp\n(www.toro2007.org)
URL:https://www.stivoz.gr/event/toro2007/
CATEGORIES:Ημερολόγιο αγώνων
END:VEVENT
END:VCALENDAR