BEGIN:VCALENDAR
VERSION:2.0
PRODID:-//StivoZ.gr - ECPv5.16.4//NONSGML v1.0//EN
CALSCALE:GREGORIAN
METHOD:PUBLISH
X-WR-CALNAME:StivoZ.gr
X-ORIGINAL-URL:https://www.stivoz.gr
X-WR-CALDESC:StivoZ.gr - Εκδηλώσεις
BEGIN:VTIMEZONE
TZID:Europe/Athens
BEGIN:DAYLIGHT
TZOFFSETFROM:+0200
TZOFFSETTO:+0300
TZNAME:EEST
DTSTART:20200329T010000
END:DAYLIGHT
BEGIN:STANDARD
TZOFFSETFROM:+0300
TZOFFSETTO:+0200
TZNAME:EET
DTSTART:20201025T010000
END:STANDARD
END:VTIMEZONE
BEGIN:VEVENT
DTSTART;TZID=Europe/Athens:20200327T193000
DTEND;TZID=Europe/Athens:20200327T203000
DTSTAMP:20260420T125232
CREATED:20200327T115915Z
LAST-MODIFIED:20200327T115915Z
UID:65881-1585337400-1585341000@www.stivoz.gr
SUMMARY:τηλεδιάσκεψη αθλητών Κύπρου
DESCRIPTION:https://us04web.zoom.us/j/329415602 \nΣχετικά θέματα:\n– https://www.stivoz.gr/tilediaskepsi-athliton-kai-stin-kypro-stis-27-3/
URL:https://www.stivoz.gr/event/tilediaskepsi-athliton-kyproy/
CATEGORIES:Ημερολόγιο αγώνων
END:VEVENT
END:VCALENDAR