BEGIN:VCALENDAR
VERSION:2.0
PRODID:-//StivoZ.gr - ECPv5.16.4//NONSGML v1.0//EN
CALSCALE:GREGORIAN
METHOD:PUBLISH
X-WR-CALNAME:StivoZ.gr
X-ORIGINAL-URL:https://www.stivoz.gr
X-WR-CALDESC:StivoZ.gr - Εκδηλώσεις
BEGIN:VTIMEZONE
TZID:Europe/Athens
BEGIN:DAYLIGHT
TZOFFSETFROM:+0200
TZOFFSETTO:+0300
TZNAME:EEST
DTSTART:20190331T010000
END:DAYLIGHT
BEGIN:STANDARD
TZOFFSETFROM:+0300
TZOFFSETTO:+0200
TZNAME:EET
DTSTART:20191027T010000
END:STANDARD
END:VTIMEZONE
BEGIN:VEVENT
DTSTART;VALUE=DATE:20190601
DTEND;VALUE=DATE:20190602
DTSTAMP:20260419T203005
CREATED:20190518T182250Z
LAST-MODIFIED:20190605T074224Z
UID:49764-1559347200-1559433599@www.stivoz.gr
SUMMARY:Θώδεια (Λουτράκι)
DESCRIPTION:Σχετικά θέματα:\n– https://www.stivoz.gr/megali-symmetoxi-kai-8-wres-agwnwn-sta-thodeia/\n– https://www.stivoz.gr/thodeia-2019/ (αποτελέσματα) \n-> δείγματα φωτογραφιών \nΝέο Πρόγραμμα: \n13:50 Βάδην (ΠΠ Ά- ΠΚ Α – Κ)\n14:35 Σφαιροβολία ΠΠA’\n14:35 80μ. ΠΚΑ΄\n15:05 80μ. ΠΠΑ΄\n15:05 Μήκος ΠΚΑ΄\n15:30 Σφαιροβολία ΠΚΑ’\n15:30 Ακοντισμός Π\n15:30 100μ. Γ προκριματικές σειρές\n16:00 100μ. Α προκριματικές σειρές\n16:00 Ύψος ΠΠΑ΄- Π\n16:40 Μήκος ΠΠΑ΄\n16:40 Σφαιροβολία Κ – Ν\n16:40 150μ. ΠΚΑ’\n17:00 150μ. ΠΠΑ’\n17:25 300μ. ΠΚΑ\n17:25 Ακοντισμός ΠΚΑ’- Κ\n17:50 Σφαιροβολία Π\n17:50 100μ Γ ΤΕΛΙΚΟΣ\n18:05 100μ Α ΤΕΛΙΚΟΣ\n18:05 Ύψος ΠΚΑ΄- Κ\n18:05 Μήκος Γ\n18:20 800μ. Γ\n18:35 1500μ. Α\n18:55 Σφαιροβολία Ε\n18:55 200μ. Γ\n19:15 1000μ. ΠΚΑ’\n19:40 1000μ. ΠΠΑ’\n19:20 Μήκος Α\n19:55 400μ. Γ\n20:15 400μ. Α\n20:35 4 Χ 80μ. ΠΚΑ΄\n20:50 4 Χ 80μ. ΠΠΑ΄\n20:50 Τριπλούν Κ- Γ –ΠΠΑ’\n21:05 4 Χ 100μ. Γ\n21:20 4 Χ 100μ. Α\n21:35 4 Χ 300μ. Γ\n21:50 4 Χ 300μ. Α \nΜετά την οριστικοποίηση των δηλώσεων συμμετοχής το ωρολόγιο πρόγραμμα ενδέχεται να τροποποιηθεί \nΟι δηλώσεις συμμετοχής των αθλητών –τριών θα γίνονται μόνον ηλεκτρονικά έως και Τετάρτη 29 Μαΐου 2019 – e-mail : vpahatouridis@hotmail.com .\nΟι αθλητές και οι αθλήτριες πρέπει να δηλωθούν 60 λεπτά πριν την τέλεση του αγωνίσματος στη Γραμματεία των αγώνων\, με αυτοπρόσωπη παρουσία και με το δελτίο του αθλητή –τριας του ΣΕΓΑΣ. \nΗ μετακίνηση των συμμετεχόντων αθλητών στα Θώδεια θα είναι δωρεάν (από Ναύπλιο\, Άργος\, Πάτρα\, Πύργος\, Αθήνα) σε συνεννόηση με τους διοργανωτές και τους τεχνικούς συμβούλους των Ε.Α.Σ.\nΠαρακαλούνται τα ενδιαφερόμενα αθλητικά σωματεία να δηλώσουν τον αριθμό συμμετοχών\, όσον αφορά την μετακίνηση των αθλητών\, έως και την Πέμπτη 30 Μαΐου 2019 και ώρα 14:00 (οι θέσεις θα δοθούν κατά σειρά προτεραιότητας στο e-mail: vpahatouridis@hotmail.com & Τηλ. Επικοινωνίας : 6944850422). \n\nΑπό Αθήνα θα αναχωρήσει λεωφορείο από τα εξής σημεία και τις παρακάτω ώρες:\n11.00 π.μ. από το γήπεδο του Πανιωνίου\n11.30 π.μ  από το γήπεδο του Πανελληνίου ΓΣ\, και\n11.45 π.μ. από το Παλατάκι στο Χαϊδάρι\, στη Λεωφόρο Αθηνών.
URL:https://www.stivoz.gr/event/thodeia-2019/
CATEGORIES:Ημερολόγιο αγώνων
END:VEVENT
END:VCALENDAR