BEGIN:VCALENDAR
VERSION:2.0
PRODID:-//StivoZ.gr - ECPv5.16.4//NONSGML v1.0//EN
CALSCALE:GREGORIAN
METHOD:PUBLISH
X-WR-CALNAME:StivoZ.gr
X-ORIGINAL-URL:https://www.stivoz.gr
X-WR-CALDESC:StivoZ.gr - Εκδηλώσεις
BEGIN:VTIMEZONE
TZID:Europe/Athens
BEGIN:STANDARD
TZOFFSETFROM:+0200
TZOFFSETTO:+0200
TZNAME:EET
DTSTART:20180101T000000
END:STANDARD
END:VTIMEZONE
BEGIN:VEVENT
DTSTART;VALUE=DATE:20180526
DTEND;VALUE=DATE:20260421
DTSTAMP:20260420T163408
CREATED:20180507T114208Z
LAST-MODIFIED:20210603T092121Z
UID:29354-1527292800-0@www.stivoz.gr
SUMMARY:Θώδεια (Λουτράκι)
DESCRIPTION:Σχετικά θέματα:\n– www.stivoz.com/forum/showthread.php?17651 (αποτελέσματα) \nΤελικό πρόγραμμα: \n14:20 Σφαιροβολία  ΠΠAʼ\n14:20	80μ. ΠΚΑ΄\n15:00	 80μ.  ΠΠΑ΄\n15:00 Μήκος ΠΚΑ΄\n15:00 Ακοντισμός    ΠΠΑ΄\n15:30	100μ. Γ\n16:00	 100μ.  Α\n16:00 Ύψος ΠΠΑ΄- Π\n16:00 Σφαιροβολία  ΠΚΑʼ\n16:40 Μήκος  ΠΠΑ΄\n16:40	150μ. ΠΠΑʼ\n17:00	 300μ.  ΠΚΑ\n17:00 Ακοντισμός Π\n17:30 Σφαιροβολία Κ\n17:30	100μ Γ  ΤΕΛΙΚΟΣ\n17:45 100μ Α  ΤΕΛΙΚΟΣ\n17:45 Ύψος  ΠΚΑ΄- Κ  (Α΄ Γκρουπ)\n18:00	800μ. Γ\n18:15	1500μ. Α\n18:15 Μήκος Γ\n18:40 Σφαιροβολία Π\n18:40	2000μ.  ΠΚΑʼ\n19:00	1000μ.  ΠΠΑʼ\n19:00 Ακοντισμός  ΠΚΑʼ- Κ\n19:15 Ύψος  ΠΚΑ΄- Κ  (Β΄ Γκρουπ)\n19:15	400μ.  Γ\n19:35	400μ.  Α\n19:35 Μήκος Α\n19:35 Σφαιροβολία Ε\n20:10	 4Χ80μ. ΠΚΑ΄\n20:30	 4 Χ80μ.  ΠΠΑ΄\n20:50 Τριπλούν Κ-Γ\n20:50	4 Χ 100μ. Γ\n21:05	4 Χ 100μ.  Α\n21:20	4 Χ 300μ.  ΠΚΑ\n21:35	4 Χ 300μ.  ΠΠΑ		 \nΟι δηλώσεις συμμετοχής των αθλητών –τριών θα γίνονται μόνον ηλεκτρονικά έως και Τετάρτη 23 Μαΐου 2018 – e-mail : vpahatouridis@hotmail.com\nΠαρακαλούνται   τα   ενδιαφερόμενα  αθλητικά σωματεία  να δηλώσουν τον αριθμό συμμετοχών\, όσον αφορά την μετακίνηση των αθλητών\, έως και την  Τρίτη     22   Μαΐου  2018   και   ώρα   14:00\n(οι θέσεις θα δοθούν κατά σειρά προτεραιότητας)   Τηλ.   Επικοινωνίας  : 6944850422
URL:https://www.stivoz.gr/event/thodeia-2018/
CATEGORIES:Ημερολόγιο αγώνων
END:VEVENT
END:VCALENDAR