BEGIN:VCALENDAR
VERSION:2.0
PRODID:-//StivoZ.gr - ECPv5.16.4//NONSGML v1.0//EN
CALSCALE:GREGORIAN
METHOD:PUBLISH
X-WR-CALNAME:StivoZ.gr
X-ORIGINAL-URL:https://www.stivoz.gr
X-WR-CALDESC:StivoZ.gr - Εκδηλώσεις
BEGIN:VTIMEZONE
TZID:Europe/Athens
BEGIN:STANDARD
TZOFFSETFROM:+0200
TZOFFSETTO:+0200
TZNAME:EET
DTSTART:20090101T000000
END:STANDARD
END:VTIMEZONE
BEGIN:VEVENT
DTSTART;VALUE=DATE:20090610
DTEND;VALUE=DATE:20260421
DTSTAMP:20260420T235108
CREATED:20081101T094605Z
LAST-MODIFIED:20211210T105112Z
UID:28268-1244592000-0@www.stivoz.gr
SUMMARY:Ολ. meeting 2009 (Θεσ/νίκη)
DESCRIPTION:Σχετικά θέματα:\nhttp://www.stivoz.gr/?p=20435\nhttp://www.stivoz.gr/?p=20435\nhttp://www.stivoz.gr/?p=16782 (αποτελέσματα) \nEAA PREMIUM MEETING “THESSALONIKI 2009”\nΤετάρτη 10 Ιουνίου – Καυτανζόγλειο Στάδιο \n19.30  Μήκος Ανδρών\n19.35  200μ Ανδρών – μόνο για Ελληνες αθλητές\n19.45  200μ Γυναικών – μόνο για Ελληνίδες αθλήτριες \n19.50  ΤΕΛΕΤΗ ΕΝΑΡΞΗΣ \n20.05  Επί κοντώ Γυναικών – μόνο για Ελληνίδες αθλήτριες\n20.10  Υψος Γυναικών (στρώμα 1)\n20.15  Υψος Ανδρών (στρώμα 2)\n20.20  110μ Εμπόδια Ανδρών\n20.35  100μ Εμπόδια Γυναικών\n20.50  1.500μ Ανδρών\n20.55  Τριπλούν Γυναικών\n21.05  100μ Γυναικών 1η σειρά\n21.11  100μ Γυναικών 2η σειρά\n21.25  100μ Ανδρών 1η σειρά\n21.31  100μ Ανδρών 2η σειρά\n21.40  800μ Γυναικών\n21.50  400μ Ανδρών 1η σειρά\n21.57  400μ Ανδρών 2η σειρά\n22.05  400μ Γυναικών – μόνο για Ελληνίδες αθλήτριες\n22.15  4χ100μ Γυναικών – μόνο για Ελληνίδες αθλήτριες\n22.25  4χ100μ Ανδρών – μόνο για Έλληνες αθλητές
URL:https://www.stivoz.gr/event/thessaloniki-2009/
CATEGORIES:Ημερολόγιο αγώνων
END:VEVENT
END:VCALENDAR