BEGIN:VCALENDAR
VERSION:2.0
PRODID:-//StivoZ.gr - ECPv5.16.4//NONSGML v1.0//EN
CALSCALE:GREGORIAN
METHOD:PUBLISH
X-WR-CALNAME:StivoZ.gr
X-ORIGINAL-URL:https://www.stivoz.gr
X-WR-CALDESC:StivoZ.gr - Εκδηλώσεις
BEGIN:VTIMEZONE
TZID:Europe/Athens
BEGIN:DAYLIGHT
TZOFFSETFROM:+0200
TZOFFSETTO:+0300
TZNAME:EEST
DTSTART:20200329T010000
END:DAYLIGHT
BEGIN:STANDARD
TZOFFSETFROM:+0300
TZOFFSETTO:+0200
TZNAME:EET
DTSTART:20201025T010000
END:STANDARD
END:VTIMEZONE
BEGIN:VEVENT
DTSTART;TZID=Europe/Athens:20200428T193000
DTEND;TZID=Europe/Athens:20200428T210000
DTSTAMP:20260420T150712
CREATED:20200407T195756Z
LAST-MODIFIED:20200407T195756Z
UID:66150-1588102200-1588107600@www.stivoz.gr
SUMMARY:τηλεδιάσκεψη αθλητών
DESCRIPTION:
URL:https://www.stivoz.gr/event/teleconference-gre-2020-3/
CATEGORIES:Ημερολόγιο αγώνων
END:VEVENT
END:VCALENDAR