BEGIN:VCALENDAR
VERSION:2.0
PRODID:-//StivoZ.gr - ECPv5.16.4//NONSGML v1.0//EN
CALSCALE:GREGORIAN
METHOD:PUBLISH
X-WR-CALNAME:StivoZ.gr
X-ORIGINAL-URL:https://www.stivoz.gr
X-WR-CALDESC:StivoZ.gr - Εκδηλώσεις
BEGIN:VTIMEZONE
TZID:Europe/Athens
BEGIN:DAYLIGHT
TZOFFSETFROM:+0200
TZOFFSETTO:+0300
TZNAME:EEST
DTSTART:20200329T010000
END:DAYLIGHT
BEGIN:STANDARD
TZOFFSETFROM:+0300
TZOFFSETTO:+0200
TZNAME:EET
DTSTART:20201025T010000
END:STANDARD
END:VTIMEZONE
BEGIN:VEVENT
DTSTART;TZID=Europe/Athens:20200407T193000
DTEND;TZID=Europe/Athens:20200407T210000
DTSTAMP:20260420T150614
CREATED:20200406T093700Z
LAST-MODIFIED:20200407T195719Z
UID:66110-1586287800-1586293200@www.stivoz.gr
SUMMARY:τηλεδιάσκεψη αθλητών
DESCRIPTION:https://us04web.zoom.us/j/106562339 \nΣχετικά θέματα:\n– www.stivoz.gr/tilediaskepsi-athliton-kyriarchei-i-avevaiotita/
URL:https://www.stivoz.gr/event/teleconference-gre-2020-2/
CATEGORIES:Ημερολόγιο αγώνων
END:VEVENT
END:VCALENDAR