BEGIN:VCALENDAR
VERSION:2.0
PRODID:-//StivoZ.gr - ECPv5.16.4//NONSGML v1.0//EN
CALSCALE:GREGORIAN
METHOD:PUBLISH
X-WR-CALNAME:StivoZ.gr
X-ORIGINAL-URL:https://www.stivoz.gr
X-WR-CALDESC:StivoZ.gr - Εκδηλώσεις
BEGIN:VTIMEZONE
TZID:Europe/Athens
BEGIN:DAYLIGHT
TZOFFSETFROM:+0200
TZOFFSETTO:+0300
TZNAME:EEST
DTSTART:20160327T010000
END:DAYLIGHT
BEGIN:STANDARD
TZOFFSETFROM:+0300
TZOFFSETTO:+0200
TZNAME:EET
DTSTART:20161030T010000
END:STANDARD
END:VTIMEZONE
BEGIN:VEVENT
DTSTART;VALUE=DATE:20160714
DTEND;VALUE=DATE:20160718
DTSTAMP:20260421T140220
CREATED:20151021T222833Z
LAST-MODIFIED:20181218T091513Z
UID:29047-1468486800-1468789200@www.stivoz.gr
SUMMARY:1ο Ευρωπαικό Π/Κ (Tbilisi\, GEO)
DESCRIPTION:http://tbilisi2016.com/ \nΣχετικά θέματα:\n– www.stivoz.com/content.php?5692-Me-20-athlites-kai-koryfaies-epidoseis-stin-Tiflida-gia-to-1o-Europaiko-P-K\n– www.stivoz.com/content.php?5711-Me-2-paides-kai-1-korasida-sto-1o-Europaiko-i-Kypros\n– www.stivoz.com/content.php?5715-Tbilisi-Xekinaei-stis-14-7-to-1o-Europaiko-P-K\n– www.stivoz.com/content.php?5717-Tiflida-7-7-prokriseis-tin-A-imera-gia-rekor-i-Synolaki-H-alli-misi-omada-ti-B-imera\n– www.stivoz.com/content.php?5720-Tiflida-Xrysoi-Mouzenidis-me-rekor-kai-Mantzourogiannis-ti-B-imera-Rekor-kai-oi-Synolaki-Magkoulia\n– www.stivoz.com/content.php?5722-Tiflida-Argyros-o-Merlos-perase-teliko-kai-o-Dritsas-Tin-Kyriaki-aylaia-me-Karali\n– www.stivoz.com/content.php?5724-Tiflida-Xryso-o-Karalis-kai-konta-sta-5-56m-1os-kai-o-Koniarakis-xalkino-i-Maltampe-5i-i-Ellada\n– www.stivoz.com/forum/showthread.php?15442 (αποτελέσματα Ελλήνων&Κυπρίων αθλητών) \n-> Livestream\n-> Πρόγραμμα/συμμετοχές/αποτελέσματα \n-> TeamManual \n-> Όρια/ επιτεύξεις \nΠρόγραμμα (σε τοπική ώρα\, -1 για Ελλάδα): \nDAY 1 – Thursday\, 14 July \n09:00  	100 m H Girls-HEP  [Heats]\n09:05  	Shot Put Boys  [Qual.Round]\n09:35  	5000 m RW Girls  [Final]\n09:40  	Hammer Throw Boys  [Qual.Round]\n09:55  	High Jump Girls-HEP\n10:20  	100 m Boys  [Qual.Round]\n11:00  	100 m Girls  [Qual.Round]\n11:10  	Hammer Throw Boys  [Qual.Round]\n11:40  	400 m Girls  [Qual.Round]  \n16:30  	Discus Throw Girls  [Qual.Round]\n16:40  	High Jump Boys  [Qual.Round]\n17:10  	Shot Put Girls-HEP\n17:30  	800 m Girls  [Qual.Round]\n17:45  	Discus Throw Girls  [Qual.Round]\n18:00  	Long Jump Boys  [Qual.Round]\n18:10  	100 m Boys  \n18:40  	100 m Girls  \n18:50  	Pole Vault Girls  [Qual.Round]\n19:00  	Javelin Throw Boys  [Qual.Round]\n19:10  	1500 m Boys  [Qual.Round]\n19:40  	200 m Girls-HEP  [Heats]\n20:10  	Javelin Throw Boys  [Qual.Round]\n20:15  	2000 m SC Girls  [Qual.Round]\n20:50  	3000 m Boys  [Final]  \nDAY 2 – Friday\, 15 July \n09:00  	Pole Vault Boys  [Qual.Round]\n09:05  	Long Jump Girls-HEP\n09:35  	400 m H Girls  [Qual.Round]\n10:10  	400 m H Boys  [Qual.Round]\n10:45  	800 m Boys  [Qual.Round]\n10:50  	High Jump Girls  [Qual.Round]\n11:25  	100 m H Girls  [Qual.Round]\n11:35  	Shot Put Girls  [Qual.Round]\n12:00  	110 m H Boys  [Qual.Round]\n15:30  	Javelin Girls-HEP  	 \n16:10  	100 m H Girls  \n16:20  	Triple Jump Girls\n16:30  	110 m H Boys  \n16:55  	800 m Girls  \n17:15  	2000 m SC Boys  [Qual.Round]\n17:45  	Shot Put Boys  [Final]\n17:55  	200 m Girls  [Qual.Round]\n18:05  	Hammer Throw Boys  [Final]\n18:30  	200 m Boys  [Qual.Round]\n19:10  	400 m Girls  \n19:15  	Long Jump Boys  [Final]\n19:25  	400 m Boys  [Qual.Round]\n19:45  	800 m Girls-HEP  [Heats]\n19:50  	Discus Throw Girls  [Final]\n20:04  	Heptathlon Girls\n20:15  	3000 m Girls  [Final]\n20:40  	100 m Girls  [Final]\n20:55  	100 m Boys  [Final]  \nDAY 3 – Saturday\, 16 July \n09:00  	Javelin Throw Girls  [Qual.Round]\n09:15  	100 m Boys-DEC  [Heats]\n09:50  	10000 m RW Boys  [Final]\n10:00  	Long Jump Boys-DEC\n10:20  	Javelin Throw Girls  [Qual.Round]\n11:10  	Medley Relay Girls  [Qual.Round]\n11:30  	Shot Put Boys-DEC\n11:45  	Discus Throw Boys  [Qual.Round]\n12:05  	Medley Relay Boys  [Qual.Round]\n12:30  	Long Jump Girls  [Qual.Round]\n13:10  	Discus Throw Boys  [Qual.Round] 	 \n16:00  	Pole Vault Girls  [Final]\n16:05  	High Jump Boys-DEC\n16:10  	400 m H Girls  \n16:30  	400 m H Boys  \n16:40  	Hammer Throw Girls\n16:45  	200 m Girls  \n17:05  	200 m Boys  \n17:25  	Triple Jump Boys  [Qual.Round]\n17:30  	800 m Boys  \n17:55  	100 m H Girls  [Final]\n18:05  	110 m H Boys  [Final]\n18:15  	800 m Girls  [Final]\n18:20  	High Jump Boys  [Final]\n18:25  	400 Boys-DEC  [Heats]\n18:35  	Javelin Throw Boys  [Final]\n18:50  	2000 m SC Girls  [Final]\n18:55  	Shot Put Girls  [Final]\n19:10  	400 m Girls  [Final]\n19:25  	400 m Boys  [Final]\n19:40  	1500 m Boys  [Final]\n19:55  	200 m Girls  [Final]\n20:05  	200 m Boys  [Final]  \nDAY 4 – Sunday\, 17 July \n09:00  	110 m H Boys-DEC  [Heats]\n09:55  	Discus Boys-DEC\n12:10  	Pole Vault Boys-DEC  	 \n16:00  	Discus Throw Boys  [Final]\n16:15  	Long Jump Girls  [Final]\n16:35  	High Jump Girls  [Final]\n17:15  	400 m H Girls  [Final]\n17:40  	400 m H Boys  [Final]\n17:50  	Javelin Boys-DEC\n18:10  	800 m Boys  [Final]\n18:15  	Pole Vault Boys  [Final]\n18:35  	Triple Jump Boys  [Final]\n18:40  	1500 m Girls  [Final]\n19:15  	2000 m SC Boys  [Final]\n19:50  	Javelin Throw Girls  [Final]\n19:55  	1500 m Boys-DEC  [Heats]\n20:30  	Medley Relay Girls  [Final]\n21:00  	Medley Relay Boys  [Final]
URL:https://www.stivoz.gr/event/tbilisi2016/
CATEGORIES:Ημερολόγιο αγώνων
END:VEVENT
END:VCALENDAR