BEGIN:VCALENDAR
VERSION:2.0
PRODID:-//StivoZ.gr - ECPv5.16.4//NONSGML v1.0//EN
CALSCALE:GREGORIAN
METHOD:PUBLISH
X-WR-CALNAME:StivoZ.gr
X-ORIGINAL-URL:https://www.stivoz.gr
X-WR-CALDESC:StivoZ.gr - Εκδηλώσεις
BEGIN:VTIMEZONE
TZID:Europe/Athens
BEGIN:DAYLIGHT
TZOFFSETFROM:+0200
TZOFFSETTO:+0300
TZNAME:EEST
DTSTART:20180325T010000
END:DAYLIGHT
BEGIN:STANDARD
TZOFFSETFROM:+0300
TZOFFSETTO:+0200
TZNAME:EET
DTSTART:20181028T010000
END:STANDARD
END:VTIMEZONE
BEGIN:VEVENT
DTSTART;VALUE=DATE:20180627
DTEND;VALUE=DATE:20180701
DTSTAMP:20260420T165317
CREATED:20180523T143713Z
LAST-MODIFIED:20181218T084704Z
UID:29373-1530090000-1530392400@www.stivoz.gr
SUMMARY:Μεσογειακοί (Tarragona)
DESCRIPTION:www.tarragona2018.cat/en/\n-> TeamManual \n-> results\n-> stream/videos \n-> Ιστορικό\n26 κράτη-μέλη \nΣχετικά θέματα:\n– www.stivoz.com/content.php?6742-H-omada-gia-tous-Mesogeiakous\n– www.stivoz.com/content.php?6765-Tarragona-Kalo-xekinima-Mertzanidis-kai-Vasileiou-Artymata\n– www.stivoz.com/content.php?6766-Tarragona-Kales-emfaniseis-Gkourklias-Vamvoukaki-4i-i-Panagi-7m-i-Spanovic\n– www.stivoz.com/content.php?6769-Tarragona-1i-me-fovero-pagkyprio-i-Artymata-Vathro-Spanoudaki-Kyriakopoulou-Anagnostopoulou-me-anapodi-simaia\n– www.stivoz.com/content.php?6772-Tarragona-1os-kai-o-Parellis-Argyra-Baniotis-kai-Pesiridou\n–\n– www.stivoz.com/forum/showthread.php?17824 (αποτελέσματα) \nΠρόγραμμα – σε τοπική ώρα (+1 για Ελλάδα) \nΤετάρτη 27/6 \n10.15	Σφαιροβολία Q A&B’γκρουπ		Α\n10.25	Μήκος Q A’γκρουπ		Α\n10.30	Δισκοβολία Q A’γκρουπ		Α\n10.40	1500μ ημιτ. Α\n11.00	400μ ημιτ. Γ\n11.15	400μ ημιτ. Α\n11.30	Μήκος Q B’γκρουπ		Α\n11.35	Δισκοβολία Q B’γκρουπ		Α \n18.30	Σφυροβολία Γ\n19.00	400μ εμπ. ημιτ.		Α\n19.20	400μ εμπ. ημιτ.	Γ\n19.45	800μ ημιτ.	Γ\n20.00	Σφαιροβολία		Α\n20.15	100μ εμπ. ημιτ.	Γ\n20.15	Μήκος		Γ\n20.30	100μ ημιτ.		Α\n20.50	100μ ημιτ. Γ\n21.10	3000μ στ.		Α\n21.25	5000μ		Α \nΠέμπτη 28/6 \n19.30	800μ T-54 ημιτ.	Γ\n19.40	Επί κοντώ Γ\n19.45	800μ ημιτ.	Α\n20.05	200μ ημιτ.	Γ\n20.20	200μ ημιτ.	Α\n20.30	Δισκοβολία		Γ\n20.40	110μ εμπ. ημιτ.	Α\n20.55	400μ	Γ\n21.00	400μ	Α\n21.10	100μ	Γ\n21.15	100μ	Α\n21.25	3000μ. στ. Γ \nΠαρασκευή 29/6  \n19.30	Δισκοβολία	Α\n19.45	Ύψος	Α\n20.00	Τριπλούν		Γ\n20.05	400μ εμπ.		Α\n20.15	200μ		Α\n20.25	200μ	Γ\n20.35	800μ	Γ\n20.40	800μ T-54 Γ\n20.55	100μ εμπ.		Γ\n21.05	1500μ	Α\n21.15	5000μ	Γ \nΣαββάτο 30/6			 \n09.00	Ημιμαραθώνιος		 \n19.30	Ακοντισμός Α\n19.45	400μ εμπ.		Γ\n19.55	Μήκος Α\n20.00	800μ	Α\n20.15	110μ εμπ.	Α\n20.25	1500μ	Γ\n20.40	4X100 Α\n20.55	4X100 Γ\n21.10	4X400 Α\n21.25	4X400 Γ \nΔεν θα γίνουν Τριπλούν Α\, Ύψος Γ\, Επικοντώ Α\, Σφαιρα Γ\, Σφύρα Α\, Ακόντιο Γ\n(για κάθε αγώνισμα χρειάζονταν δηλώσεις τουλάχιστον 8 χωρών σε άνδρες και 6 σε γυναίκες)\nΔικαιολυνται συμμετοχής 2 αθλητές από κάθε χώρα (3 στον ημιμαραθώνιο)
URL:https://www.stivoz.gr/event/tarragona2018/
CATEGORIES:Ημερολόγιο αγώνων
END:VEVENT
END:VCALENDAR