BEGIN:VCALENDAR
VERSION:2.0
PRODID:-//StivoZ.gr - ECPv5.16.4//NONSGML v1.0//EN
CALSCALE:GREGORIAN
METHOD:PUBLISH
X-WR-CALNAME:StivoZ.gr
X-ORIGINAL-URL:https://www.stivoz.gr
X-WR-CALDESC:StivoZ.gr - Εκδηλώσεις
BEGIN:VTIMEZONE
TZID:Europe/Athens
BEGIN:DAYLIGHT
TZOFFSETFROM:+0200
TZOFFSETTO:+0300
TZNAME:EEST
DTSTART:20180325T010000
END:DAYLIGHT
BEGIN:STANDARD
TZOFFSETFROM:+0300
TZOFFSETTO:+0200
TZNAME:EET
DTSTART:20181028T010000
END:STANDARD
END:VTIMEZONE
BEGIN:VEVENT
DTSTART;VALUE=DATE:20180710
DTEND;VALUE=DATE:20180716
DTSTAMP:20260420T052452
CREATED:20170801T103946Z
LAST-MODIFIED:20200227T131319Z
UID:29243-1531180800-1531699199@www.stivoz.gr
SUMMARY:Παγκόσμιο Ε/Ν (Tampere\,FIN)
DESCRIPTION:http://tampere2018.com \nwww.iaaf.org/competitions/iaaf-world-u20-championships/iaaf-world-u20-championships-tampere-2018-6082/timetable/byday (IAAF – πρόγραμμα & αποτελεσματα) \n-> Livestream \nΣχετικά θέματα:\n– www.stivoz.com/content.php?6761-H-omada-gia-Tampere-me-14-kai-4×100\n– www.stivoz.com/content.php?6794-Tampere-Arxi-me-6-tin-A-imera-sto-pagkosmio-U20\n– www.stivoz.com/content.php?6796-Tampere-Mia-voli-kai-teliko-o-Mouzenidis-Den-irthe-alli-prokrisi-to-proi\n– www.stivoz.com/content.php?6797-Tampere-Xalkino-kai-NR-over-21m-o-Mouzenidis-tin-1i-imera\n– www.stivoz.com/content.php?6798-Tampere-Emeinan-ston-klovo-oi-prooptikes-ti-B-imera\n– www.stivoz.com/content.php?6799-Tampere-Oi-Australoi-to-10thlo-i-7thlitria-Shukh-ton-akontismo-Indonisios-ta-100-kai-2-xrysa-Japan\n– www.stivoz.com/content.php?6801-Tampere-Prokrisi-me-sub9-o-Sakis-se-epeisodiaki-koursa-Perase-me-PB-kai-o-Dritsas\n– www.stivoz.com/content.php?6804-Tampere-Perase-teliko-o-Merlos-16xroni-Tzamaikani-kerdise-ta-100m-Indi-ta-400m\n– www.stivoz.com/content.php?6806-Tampere-Kali-koursa-i-4x100m-Spoudaio-400ari-o-Belgos-Sacoor-Synarpastiko-7thlo-tin-4i-imera\n– www.stivoz.com/content.php?6809-Tampere-Xrysos-o-Merlos\n– www.stivoz.com/content.php?6808-Tampere-Sto-nima-to-vadin-11os-o-Tzatzimakis-Teliko-o-Koniarakis\n– www.stivoz.com/content.php?6811-Tampere-Double-i-Williams-ER-o-Ingebrigtsen-Megala-almata-Diaz-Duplantis\n– www.stivoz.com/content.php?6814-Tampere-Finale-sto-pagkosmio-U20-7os-o-Koniarakis\n– www.stivoz.com/forum/showthread.php?17896 (αποτελέσματα) \nΣυμμετοχές\n–ανά χώρα\n–ανά αγώνισμα \n-> Όρια/επιτεύξεις\n-> Αρχικό πρόγραμμα \nΠρόγραμμα: \nΤΡΙΤΗ 10/7 \n09:00 W Javelin Throw Qualification Group A\n09:05 M 100 Metres Decathlon U20\n09:10 M Shot Put (6kg) Qualification Group A\n09:30 W 3000 Metres Steeplechase Heats\n09:50 M Long Jump Decathlon U20\n10:05 M 1500 Metres Heats\n10:20 W Javelin Throw Qualification Group B\n10:24 M Shot Put (6kg) Qualification Group B\n10:40 W 800 Metres Heats\n11:20 M Long Jump Qualification\n11:30 M 100 Metres Heats\n11:45 M Shot Put (6kg) Decathlon U20 \n16:00 M High Jump Decathlon U20\n16:15 W Pole Vault Qualification\n16:45 W Discus Throw Qualification Group A\n16:50 W 400 Metres Heats\n17:40 W 5000 Metres Final\n18:05 W Discus Throw Qualification Group B\n18:10 M Shot Put (6kg) Final\n18:15 M 400 Metres Decathlon U20\n18:50 M 10\,000 Metres Final \nΤΕΤΑΡΤΗ 11/7 \n09:00 M 110m Hurdles (99.0cm) Decathlon U20\n09:30 M 110m Hurdles (99.0cm) Heats\n09:50 M Discus Throw (1.750kg) Decathlon U20 Group A\n10:15 W Shot Put Qualification Group A\n10:30 W 400 Metres Hurdles Heats\n11:00 M Discus Throw (1.750kg) Decathlon U20 Group B\n11:20 M 400 Metres Heats\n11:30 W Shot Put Qualification Group B\n12:20 M Hammer Throw (6kg) Qualification Group A\n12:27 W 100 Metres Heats\n12:40 M Pole Vault Decathlon U20\n13:40 M Hammer Throw (6kg) Qualification Group B \n16:30 M Javelin Throw Decathlon U20 Group A\n16:35 W Shot Put Final\n16:40 M 110m Hurdles (99.0cm) Semi-Final\n17:00 M Pole Vault Qualification\n17:10 W 800 Metres Semi-Final\n17:40 M Javelin Throw Decathlon U20 Group B\n17:50 M 100 Metres Semi-Final\n17:55 M Long Jump Final\n18:25 W 400 Metres Semi-Final\n18:50 W Javelin Throw Final\n18:55 W 3000 Metres Final\n19:25 M 1500 Metres Decathlon U20\n20:05 M 100 Metres Final \nΠΕΜΠΤΗ 12/7 \n09:30 W 100 Metres Hurdles Heptathlon\n09:40 W Hammer Throw Qualification Group A\n10:00 M 3000 Metres Steeplechase Heats\n10:18 W Long Jump Qualification\n10:30 W High Jump Heptathlon\n10:35 M 400 Metres Hurdles Heats\n10:55 W Hammer Throw Qualification Group B\n11:30 M 200 Metres Heats \n18:00 W 100 Metres Semi-Final\n18:05 W Shot Put Heptathlon\n18:20 W Pole Vault Final\n18:25 M 200 Metres Semi-Final\n18:50 W 400 Metres Hurdles Semi-Final\n19:15 W 200 Metres Heptathlon\n19:20 M High Jump Qualification\n19:35 W Discus Throw Final\n19:40 M 400 Metres Semi-Final\n20:10 W 400 Metres Final\n20:25 M 1500 Metres Final\n20:48 W 800 Metres Final\n21:02 M 110m Hurdles (99.0cm) Final\n21:15 W 100 Metres Final \nΠΑΡΑΣΚΕΥΗ 13/7 \n09:30 M Javelin Throw Qualification Group A\n09:35 W 100 Metres Hurdles Heats\n10:00 W Long Jump Heptathlon\n10:25 M 800 Metres Heats\n10:45 M Javelin Throw Qualification Group B\n11:20 W 1500 Metres Heats\n11:40 W High Jump Qualification\n12:00 W 200 Metres Heats\n12:10 W Javelin Throw Heptathlon Group A\n13:20 W Javelin Throw Heptathlon Group B \n17:50 M Hammer Throw (6kg) Final\n18:00 M Triple Jump Qualification\n18:05 W 4×100 Metres Relay Heats\n18:30 M 4×100 Metres Relay Heats\n19:00 W 800 Metres Heptathlon\n19:28 M 400 Metres Hurdles Semi-Final\n19:43 W Long Jump Final\n20:02 W 200 Metres Semi-Final\n20:26 W 400 Metres Hurdles Final\n20:35 M 400 Metres Final\n20:45 W 3000 Metres Steeplechase Final\n21:20 M 200 Metres Final \nΣΑΒΒΑΤΟ 14/7 \n09:30 M Discus Throw (1.750kg) Qualification Group A\n09:35 W 10\,000 Metres Race Walk Final\n10:00 W Triple Jump Qualification\n10:40 M High Jump Final\n10:45 M 10\,000 Metres Race Walk Final\n10:50 M Discus Throw (1.750kg) Qualification Group B\n11:50 W 4×400 Metres Relay Heats\n12:15 M 4×400 Metres Relay Heats \n13:20 W Hammer Throw Final\n13:50 M Pole Vault Final\n13:55 W 100 Metres Hurdles Semi-Final\n14:30 M 800 Metres Semi-Final\n14:59 M Triple Jump Final\n15:05 W 200 Metres Final\n15:20 M 5000 Metres Final\n15:25 M Javelin Throw Final\n15:52 M 400 Metres Hurdles Final\n16:04 W 4×100 Metres Relay Final\n16:40 M 4×100 Metres Relay Final \nΚΥΡΙΑΚΗ 15/7 \n13:30 W High Jump Final\n13:35 W 100 Metres Hurdles Final\n13:40 M Discus Throw (1.750kg) Final\n13:45 M 3000 Metres Steeplechase Final\n14:00 W Triple Jump Final\n14:15 W 1500 Metres Final\n14:34 M 800 Metres Final\n14:58 W 4×400 Metres Relay Final\n15:28 M 4×400 Metres Relay Final
URL:https://www.stivoz.gr/event/tampere2018/
CATEGORIES:Ημερολόγιο αγώνων
END:VEVENT
END:VCALENDAR