BEGIN:VCALENDAR
VERSION:2.0
PRODID:-//StivoZ.gr - ECPv5.16.4//NONSGML v1.0//EN
CALSCALE:GREGORIAN
METHOD:PUBLISH
X-WR-CALNAME:StivoZ.gr
X-ORIGINAL-URL:https://www.stivoz.gr
X-WR-CALDESC:StivoZ.gr - Εκδηλώσεις
BEGIN:VTIMEZONE
TZID:Europe/Athens
BEGIN:DAYLIGHT
TZOFFSETFROM:+0200
TZOFFSETTO:+0300
TZNAME:EEST
DTSTART:20260329T010000
END:DAYLIGHT
BEGIN:STANDARD
TZOFFSETFROM:+0300
TZOFFSETTO:+0200
TZNAME:EET
DTSTART:20261025T010000
END:STANDARD
END:VTIMEZONE
BEGIN:VEVENT
DTSTART;VALUE=DATE:20260110
DTEND;VALUE=DATE:20260111
DTSTAMP:20260419T201243
CREATED:20260108T072740Z
LAST-MODIFIED:20260111T074823Z
UID:127361-1768003200-1768089599@www.stivoz.gr
SUMMARY:Παγκόσμιο ανωμάλου (Tallahassee)
DESCRIPTION:Σχετικά θέματα:\n– www.stivoz.gr/world-ccc-2026/ (αποτελέσματα) \n-> ιστορικό \n-> συμμετοχές < \nΠρόγραμμα\n(τοπική ώρα\, +7 για Ελλάδα) \n09:45 X Mixed (M-W-M-W) Relay\n10:20 W U20 6km Race\n10:55 M U20 8km Race\n11:35 W Senior 10km Race\n12:20 M Senior 10km Race
URL:https://www.stivoz.gr/event/tallahassee2026/
CATEGORIES:Ημερολόγιο αγώνων
END:VEVENT
END:VCALENDAR