BEGIN:VCALENDAR
VERSION:2.0
PRODID:-//StivoZ.gr - ECPv5.16.4//NONSGML v1.0//EN
CALSCALE:GREGORIAN
METHOD:PUBLISH
X-WR-CALNAME:StivoZ.gr
X-ORIGINAL-URL:https://www.stivoz.gr
X-WR-CALDESC:StivoZ.gr - Εκδηλώσεις
BEGIN:VTIMEZONE
TZID:Europe/Athens
BEGIN:DAYLIGHT
TZOFFSETFROM:+0200
TZOFFSETTO:+0300
TZNAME:EEST
DTSTART:20210328T010000
END:DAYLIGHT
BEGIN:STANDARD
TZOFFSETFROM:+0300
TZOFFSETTO:+0200
TZNAME:EET
DTSTART:20211031T010000
END:STANDARD
END:VTIMEZONE
BEGIN:VEVENT
DTSTART;VALUE=DATE:20210609
DTEND;VALUE=DATE:20210610
DTSTAMP:20260419T215743
CREATED:20210602T091731Z
LAST-MODIFIED:20210609T220020Z
UID:78454-1623196800-1623283199@www.stivoz.gr
SUMMARY:αγώνες “Τ.Ξένος” (Χολαργός)
DESCRIPTION:Σχετικά θέματα:\n– www.stivoz.gr/holargos-2021 (αποτελέσματα) \nΔρόμοι & άλματα: Στάδιο Αθλητικού Κέντρου Χολαργού\nΡίψεις ΅: Στάδιο <<ΜΑΡΚ ΜΑΡΣΩ>> (Φανερωμένης & Ζακύνθου 2) \nΠρόγραμμα: \nΔρόμοι&Άλματα: \n16.30 80Μ. ΠΚΑ’\n16.30 ΜΗΚΟΣ ΠΚΑ’\n17.20 150Μ. ΠΠΑ’\n17.50 ΜΗΚΟΣ ΠΠΑ’\n18.00 1200Μ. ΠΚΑ’\n18.20 1200Μ. ΠΠΑ’\n18.40 100Μ. ΓΥΝΑΙΚΩΝ – ΚΟΡΑΣΙΔΩΝ\n19.00 ΜΗΚΟΣ ΓΥΝΑΙΚΩΝ – ΚΟΡΑΣΙΔΩΝ\n19.20 100Μ. ΑΝΔΡΩΝ – ΠΑΙΔΩΝ\n20.00 1500Μ. ΑΝΔΡΩΝ – ΠΑΙΔΩΝ\n20.15 ΜΗΚΟΣ ΑΝΔΡΩΝ – ΠΑΙΔΩΝ\n20.20 800Μ. ΓΥΝΑΙΚΩΝ – ΚΟΡΑΣΙΔΩΝ\n20.40 200Μ. ΓΥΝΑΙΚΩΝ\n21.10 200Μ. ΑΝΔΡΩΝ \nΡίψεις: \n18.20 (αντί 17.20) ΣΦΑΙΡΑ ΠΚΑ’\n18.20 ΣΦΑΙΡΑ ΚΟΡΑΣΙΔΩΝ\n19.20 ΣΦΑΙΡΑ ΕΦΗΒΩΝ – Κ20 (μπορούν να συμμετέχουν και Κ18)\n \nΟι δηλώσεις συμμετοχής των αθλητών –τριών θα πρέπει να σταλούν αυστηρά έως την\nΠΑΡΑΣΚΕΥΗ 04 ΙΟΥΝΙΟΥ 2021 στο e-mail info@gas-holargos.gr
URL:https://www.stivoz.gr/event/t-xenos-2021/
CATEGORIES:Ημερολόγιο αγώνων
END:VEVENT
END:VCALENDAR