BEGIN:VCALENDAR
VERSION:2.0
PRODID:-//StivoZ.gr - ECPv5.16.4//NONSGML v1.0//EN
CALSCALE:GREGORIAN
METHOD:PUBLISH
X-WR-CALNAME:StivoZ.gr
X-ORIGINAL-URL:https://www.stivoz.gr
X-WR-CALDESC:StivoZ.gr - Εκδηλώσεις
BEGIN:VTIMEZONE
TZID:Europe/Athens
BEGIN:STANDARD
TZOFFSETFROM:+0200
TZOFFSETTO:+0200
TZNAME:EET
DTSTART:20180101T000000
END:STANDARD
END:VTIMEZONE
BEGIN:VEVENT
DTSTART;VALUE=DATE:20180707
DTEND;VALUE=DATE:20260421
DTSTAMP:20260420T014423
CREATED:20180620T215923Z
LAST-MODIFIED:20210602T090938Z
UID:29391-1530921600-0@www.stivoz.gr
SUMMARY:Τ.Ξένος (Χολαργός)
DESCRIPTION:Σχετικά θέματα:\n– www.stivoz.com/forum/showthread.php?17887 (αποτελέσματα) \nΠρόγραμμα: \n17:30 – ΜΗΚΟΣ ΑΝΔΡΩΝ\n    17:30 – 100μ. ΚΟΡΑΣΙΔΩΝ – ΓΥΝΑΙΚΩΝ\n    18:00 – 100μ. ΠΑΙΔΩΝ – ΑΝΔΡΩΝ\n    18:45 – 400μ. ΚΟΡΑΣΙΔΩΝ – ΓΥΝΑΙΚΩΝ\n19:00 – ΜΗΚΟΣ ΓΥΝΑΙΚΩΝ\n    19:15 – 400μ. ΠΑΙΔΩΝ – ΑΝΔΡΩΝ\n    19:45 – 1500μ. ΝΕΑΝΙΔΩΝ – ΓΥΝΑΙΚΩΝ\n    20:00 – 1500μ. ΕΦΗΒΩΝ – ΑΝΔΡΩΝ\n    20:15 – 800μ. ΠΑΙΔΩΝ – ΑΝΔΡΩΝ\n    20:30 – 800μ. ΝΕΑΝΙΔΩΝ – ΓΥΝΑΙΚΩΝ \nΟι δηλώσεις συμμετοχής των αθλητών–τριών θα πρέπει να σταλούν αυστηρά έως τη ΔΕΥΤΕΡΑ 2 ΙΟΥΛΙΟΥ 2018 στο e-mail info@gas-holargos.gr
URL:https://www.stivoz.gr/event/t-xenos-2018/
CATEGORIES:Ημερολόγιο αγώνων
END:VEVENT
END:VCALENDAR