BEGIN:VCALENDAR
VERSION:2.0
PRODID:-//StivoZ.gr - ECPv5.16.4//NONSGML v1.0//EN
CALSCALE:GREGORIAN
METHOD:PUBLISH
X-WR-CALNAME:StivoZ.gr
X-ORIGINAL-URL:https://www.stivoz.gr
X-WR-CALDESC:StivoZ.gr - Εκδηλώσεις
BEGIN:VTIMEZONE
TZID:Europe/Athens
BEGIN:STANDARD
TZOFFSETFROM:+0200
TZOFFSETTO:+0200
TZNAME:EET
DTSTART:20130101T000000
END:STANDARD
END:VTIMEZONE
BEGIN:VEVENT
DTSTART;VALUE=DATE:20130708
DTEND;VALUE=DATE:20260421
DTSTAMP:20260420T091702
CREATED:20130619T093736Z
LAST-MODIFIED:20210602T091056Z
UID:28811-1373241600-0@www.stivoz.gr
SUMMARY:ημερ."Τάσος Ξένος" (Χολαργός)
DESCRIPTION:Πρόγραμμα:\n17.15 ΜΗΚΟΣ ΑΝΔΡΩΝ\n17.15            100Μ. ΓΥΝΑΙΚΩΝ-ΝΕΑΝΙΔΩΝ\n17.35            100Μ. ΑΝΔΡΩΝ-ΕΦΗΒΩΝ\n18.15            400Μ. ΑΝΔΡΩΝ\n18.40             400Μ. ΓΥΝΑΙΚΩΝ-ΝΕΑΝΙΔΩΝ\n18.40 ΜΗΚΟΣ ΓΥΝΑΙΚΩΝ\n19.00             800Μ. ΑΝΔΡΩΝ-ΕΦΗΒΩΝ\n19.15              800Μ. ΓΥΝΑΙΚΩΝ-ΝΕΑΝΙΔΩΝ\n19.30              3.000Μ. ΑΝΔΡΩΝ-ΠΑΙΔΩΝ\n19.45              3.000Μ. ΓΥΝΑΙΚΩΝ-ΚΟΡΑΣΙΔΩΝ\n20.00              200Μ. ΓΥΝΑΙΚΩΝ-ΝΕΑΝΙΔΩΝ\n20.20             200Μ. ΑΝΔΡΩΝ-ΕΦΗΒΩΝ \nΔημοτικό Στάδιο Χολαργού\n“Μαρκ Μαρσω” Φανερωμένης & Ζακύνθου 2
URL:https://www.stivoz.gr/event/t-xenos-2013/
CATEGORIES:Ημερολόγιο αγώνων
END:VEVENT
END:VCALENDAR