BEGIN:VCALENDAR
VERSION:2.0
PRODID:-//StivoZ.gr - ECPv5.16.4//NONSGML v1.0//EN
CALSCALE:GREGORIAN
METHOD:PUBLISH
X-WR-CALNAME:StivoZ.gr
X-ORIGINAL-URL:https://www.stivoz.gr
X-WR-CALDESC:StivoZ.gr - Εκδηλώσεις
BEGIN:VTIMEZONE
TZID:Europe/Athens
BEGIN:DAYLIGHT
TZOFFSETFROM:+0200
TZOFFSETTO:+0300
TZNAME:EEST
DTSTART:20250330T010000
END:DAYLIGHT
BEGIN:STANDARD
TZOFFSETFROM:+0300
TZOFFSETTO:+0200
TZNAME:EET
DTSTART:20251026T010000
END:STANDARD
END:VTIMEZONE
BEGIN:VEVENT
DTSTART;VALUE=DATE:20250507
DTEND;VALUE=DATE:20250509
DTSTAMP:20260422T035114
CREATED:20250331T110018Z
LAST-MODIFIED:20250507T062654Z
UID:123333-1746576000-1746748799@www.stivoz.gr
SUMMARY:Σχολικοί – τελική φάση (Ηράκλειο)
DESCRIPTION:-> livestream \nΣχετικά θέματα:\n– www.stivoz.gr/sxoliko-2025/ (αποτελέσματα) \nΣυμμετέχουν μαθητές-τριες Λυκείου (γεν.2007-2008-2009) με προδιαγραφές Κ18 \n-> όρια & διαδικασία πρόκρισης\n-> ιστορικό\n-> νικητές διοργάνωσης\n-> ρεκόρ σχολικών αγώνων \nΠρόγραμμα: \nΤΕΤΑΡΤΗ 7 ΜΑΙΟΥ \n09:00 100Μ 10/ΘΛΟΥ\n09:15 100 ΕΜΠ 7/ΘΛΟΥ\n09:30 100 ΕΜΠ ΜΑΘΗΤΡΙΩΝ ΠΡΟΚΡ\n09:45 110 ΕΜΠ ΜΑΘΗΤΩΝ ΠΡΟΚΡ\n10:05 ΜΗΚΟΣ 10/ΘΛΟΥ\n10:05 200Μ. ΜΑΘΗΤΩΝ ΠΡΟΚΡ\n10:20 200Μ. ΜΑΘΗΤΡΙΩΝ ΠΡΟΚΡ\n10:20 ΥΨΟΣ 7/ΘΛΟΥ\n10:35 400 ΕΜΠ ΜΑΘΗΤΩΝ ΠΡΟΚΡ\n10:50 400 ΕΜΠ ΜΑΘΗΤΡΙΩΝ ΠΡΟΚΡ\n11:05 400Μ ΜΑΘΗΤΩΝ ΠΡΟΚΡ\n11:05 ΤΡΙΠΛΟΥΝ ΜΑΘΗΤΡΙΩΝ\n11:15 400Μ ΜΑΘΗΤΡΙΩΝ ΠΡΟΚΡ\n11:15 ΣΦΑΙΡΟΒΟΛΙΑ 10/ΘΛΟΥ\n11:35 100Μ ΜΑΘΗΤΩΝ ΠΡΟΚΡ\n11:45 100Μ ΜΑΘΗΤΡΙΩΝ ΠΡΟΚΡ\n\n14:30 ΕΠΙ ΚΟΝΤΩ ΜΑΘΗΤΩΝ\n15:00 ΥΨΟΣ 10/ΘΛΟΥ\n15:00 ΣΦΥΡΟΒΟΛΙΑ ΜΑΘΗΤΡΙΩΝ\n16:00 ΤΡΙΠΛΟΥΝ ΜΑΘΗΤΩΝ\n16:00 ΣΦΑΙΡΟΒΟΛΙΑ 7/ΘΛΟΥ (ΒΟΗΘ. ΣΤΑΔΙΟ)\n16:30 ΑΚΟΝΤΙΣΜΟΣ ΜΑΘΗΤΡΙΩΝ\n16:50 ΣΦΥΡΟΒΟΛΙΑ ΜΑΘΗΤΩΝ\n16:50 800Μ ΜΑΘΗΤΩΝ\n17:00 800Μ ΜΑΘΗΤΡΙΩΝ\n17:00 ΥΨΟΣ ΜΑΘΗΤΩΝ\n17:10 1500Μ ΜΑΘΗΤΩΝ\n17:20 1500Μ ΜΑΘΗΤΡΙΩΝ\n17:20 ΕΠΙ ΚΟΝΤΩ ΜΑΘΗΤΡΙΩΝ\n18:00 ΣΦΑΙΡΟΒΟΛΙΑ ΜΑΘΗΤΩΝ\n18:00 400Μ 10/ΘΛΟΥ\n18:00 ΜΗΚΟΣΜΑΘΗΤΡΙΩΝ\n18:15 200Μ 7/ΘΛΟΥ\n18:15 ΔΙΣΚΟΒΟΛΙΑ ΜΑΘΗΤΡΙΩΝ\n18:35 200Μ ΜΑΘΗΤΩΝ ΤΕΛΙΚΟΣ\n18:45 200Μ ΜΑΘΗΤΡΙΩΝ ΤΕΛΙΚΟΣ\n18:45 ΑΚΟΝΤΙΣΜΟΣ ΜΑΘΗΤΩΝ\n19:00 ΥΨΟΣ ΜΑΘΗΤΡΙΩΝ\n19:00 400Μ ΕΜΠ ΜΑΘΗΤΩΝ ΤΕΛΙΚΟΣ\n19:10 400Μ ΕΜΠ ΜΑΘΗΤΡΙΩΝ ΤΕΛΙΚΟΣ\n19:10 ΣΦΑΙΡΟΒΟΛΙΑ ΜΑΘΗΤΡΙΩΝ\n19:20 400Μ ΜΑΘΗΤΩΝ ΤΕΛΙΚΟΣ\n19:30 400Μ ΜΑΘΗΤΡΙΩΝ ΤΕΛΙΚΟΣ\n19:30 ΜΗΚΟΣ ΜΑΘΗΤΩΝ\n19:30 ΔΙΣΚΟΒΟΛΙΑ ΜΑΘΗΤΩΝ\n19:40 2000Μ Φ.Ε . ΜΑΘΗΤΩΝ\n19:55 2000Μ Φ.Ε . ΜΑΘΗΤΡΙΩΝ\n20:10 3000Μ ΜΑΘΗΤΩΝ\n20:25 3000Μ ΜΑΘΗΤΡΙΩΝ\n20:40 110Μ ΕΜΠ.ΜΑΘΗΤΩΝ ΤΕΛΙΚΟΣ\n20:50 100Μ ΕΜΠ.ΜΑΘΗΤΡΙΩΝ ΤΕΛΙΚΟΣ\n21:00 100Μ ΜΑΘΗΤΩΝ ΤΕΛΙΚΟΣ\n21:10 100Μ ΜΑΘΗΤΡΙΩΝ ΤΕΛΙΚΟΣ\n\nΠΕΜΠΤΗ 8 ΜΑΙΟΥ\n\n09:00 110 ΕΜΠ 10/ΘΛΟΥ\n09:05 ΜΗΚΟΣ 7/ΘΛΟΥ\n09:15 10.000 Μ. ΒΑΔΗΝ ΜΑΘΗΤΩΝ\n09:45 ΔΙΣΚΟΒΟΛΙΑ 10/ΘΛΟΥ\n10:30 5000 Μ. ΒΑΔΗΝ ΜΑΘΗΤΡΙΩΝ\n11:00 ΕΠΙ ΚΟΝΤΩ 10/ΘΛΟΥ\n11:00 ΑΚΟΝΤΙΣΜΟΣ 7/ΘΛΟΥ\n13:00 800 Μ 7/ΘΛΟΥ\n13:30 ΑΚΟΝΤΙΣΜΟΣ 10/ΘΛΟΥ\n15:00 1500Μ 10/ΘΛΟΥ
URL:https://www.stivoz.gr/event/sxoliko-2025/
CATEGORIES:Ημερολόγιο αγώνων
END:VEVENT
END:VCALENDAR