BEGIN:VCALENDAR
VERSION:2.0
PRODID:-//StivoZ.gr - ECPv5.16.4//NONSGML v1.0//EN
CALSCALE:GREGORIAN
METHOD:PUBLISH
X-WR-CALNAME:StivoZ.gr
X-ORIGINAL-URL:https://www.stivoz.gr
X-WR-CALDESC:StivoZ.gr - Εκδηλώσεις
BEGIN:VTIMEZONE
TZID:Europe/Athens
BEGIN:DAYLIGHT
TZOFFSETFROM:+0200
TZOFFSETTO:+0300
TZNAME:EEST
DTSTART:20240331T010000
END:DAYLIGHT
BEGIN:STANDARD
TZOFFSETFROM:+0300
TZOFFSETTO:+0200
TZNAME:EET
DTSTART:20241027T010000
END:STANDARD
END:VTIMEZONE
BEGIN:VEVENT
DTSTART;VALUE=DATE:20240422
DTEND;VALUE=DATE:20240424
DTSTAMP:20260422T035705
CREATED:20240408T095333Z
LAST-MODIFIED:20240423T061428Z
UID:113596-1713744000-1713916799@www.stivoz.gr
SUMMARY:Σχολικοί – τελική φάση (Σέρρες)
DESCRIPTION:Σχετικά θέματα:\n– www.stivoz.gr/serres-me-polla-oria-kai-rekor-agonon-to-sxoliko/\n– www.stivoz.gr/sxoliko-2024/ (αποτελέσματα) \n-> όρια & διαδικασία πρόκρισης\n-> ιστορικό\n-> νικητές διοργάνωσης\n-> ρεκόρ σχολικών αγώνων \nΤα αγωνίσματα γίνονται με προδιαγραφές Κ18\n-> Τεχνικά στοιχεία \nΠρόγραμμα: \nΔΕΥΤΕΡΑ 22 ΑΠΡΙΛΙΟΥ \n09.00 100μ. Α 10αθλο (1)\n09.10 100 ΕΜΠ Κ 7αθλο (1)\n09.30 100μ. εμπ. ΚΟΡΙΤΣΙΩΝ Προκριματικός\n09.45 110μ. εμπ. ΑΓΟΡΙΩΝ Προκριματικός\n10.05 ΜΗΚΟΣ Α 10αθλο (2)\n10.05 200μ. ΑΓΟΡΙΩΝ Προκριματικός\n10.20 200μ. ΚΟΡΙΤΣΙΩΝ Προκριματικός\n10.20 ΥΨΟΣ Κ 7αθλο (2)\n10.35 400μ. εμπ. ΑΓΟΡΙΩΝ Προκριματικός\n10.40 ΤΡΙΠΛΟΥΝ ΚΟΡΙΤΣΙΩΝ\n10.50 400μ. εμπ. ΚΟΡΙΤΣΙΩΝ Προκριματικός\n11.00 400μ. ΑΓΟΡΙΩΝ Προκριματικός\n11.10 400μ. ΚΟΡΙΤΣΙΩΝ Προκριματικός\n11.15 ΣΦΑΙΡΟΒΟΛΙΑ Α 10αθλο (3)\n11.30 100μ. ΑΓΟΡΙΩΝ Προκριματικός\n11.40 100μ. ΚΟΡΙΤΣΙΩΝ Προκριματικός\n11.50 ΣΦΥΡΟΒΟΛΙΑ ΑΓΟΡΙΩΝ \n13.30 ΣΦΥΡΟΒΟΛΙΑ ΚΟΡΙΤΣΙΩΝ\n14.00 ΕΠΙ ΚΟΝΤΩ ΑΓΟΡΙΩΝ\n15.10 ΥΨΟΣ Α 10αθλο (4)\n15.10 ΑΚΟΝΤΙΣΜΟΣ ΚΟΡΙΤΣΙΩΝ\n15.30 ΤΡΙΠΛΟΥΝ ΑΓΟΡΙΩΝ\n15.30 ΣΦΑΙΡΟΒΟΛΙΑ Κ 7αθλο (3) \n16.30 Τελετή έναρξης\n16.50 ΑΚΟΝΤΙΣΜΟΣ ΑΓΟΡΙΩΝ\n17.00 800μ. ΑΓΟΡΙΩΝ\n17.10 800μ. ΚΟΡΙΤΣΙΩΝ\n17.10 ΥΨΟΣ ΑΓΟΡΙΩΝ\n17.20 ΜΗΚΟΣ ΚΟΡΙΤΣΙΩΝ\n17.20 ΣΦΑΙΡΟΒΟΛΙΑ ΑΓΟΡΙΩΝ\n17.20 1.500μ. ΑΓΟΡΙΩΝ\n17.30 1.500μ. ΚΟΡΙΤΣΙΩΝ\n17.30 ΕΠΙ ΚΟΝΤΩ ΚΟΡΙΤΣΙΩΝ\n17.45 400μ. Α 10αθλο (5)\n18.00 200μ. Κ 7αθλο (4)\n18.20 200μ. ΑΓΟΡΙΩΝ\n18.30 200μ. ΚΟΡΙΤΣΙΩΝ\n18.30 ΔΙΣΚΟΒΟΛΙΑ ΚΟΡΙΤΣΙΩΝ\n18.45 400μ. εμπ. ΑΓΟΡΙΩΝ\n18.55 400μ. εμπ. ΚΟΡΙΤΣΙΩΝ\n19.05 ΥΨΟΣ ΚΟΡΙΤΣΙΩΝ\n19.05 ΣΦΑΙΡΟΒΟΛΙΑ ΚΟΡΙΤΣΙΩΝ\n19.05 400μ. ΑΓΟΡΙΩΝ\n19.15 400μ. ΚΟΡΙΤΣΙΩΝ\n19.15 ΜΗΚΟΣ ΑΓΟΡΙΩΝ\n19.25 2.000μ. στ. ΑΓΟΡΙΩΝ\n19.35 2.000μ. στ. ΚΟΡΙΤΣΙΩΝ\n19.50 3.000μ. ΑΓΟΡΙΩΝ\n20.05 3.000μ. ΚΟΡΙΤΣΙΩΝ\n20.10 ΔΙΣΚΟΒΟΛΙΑ ΑΓΟΡΙΩΝ\n20.25 100μ. εμπ. ΚΟΡΙΤΣΙΩΝ\n20.35 110μ. εμπ. ΑΓΟΡΙΩΝ\n20.45 100μ. ΑΓΟΡΙΩΝ\n20.55 100μ. ΚΟΡΙΤΣΙΩΝ \nΤΡΙΤΗ 23 ΑΠΡΙΛΙΟΥ \n09.00 110μ. εμπ. Α 10αθλο (6)\n09.05 ΜΗΚΟΣ Κ 7αθλο (5)\n09.15 10.000μ. Βάδην ΑΓΟΡΙΩΝ\n09.45 ΔΙΣΚΟΒΟΛΙΑ Α 10αθλο (7)\n10.30 5.000μ. Βάδην ΚΟΡΙΤΣΙΩΝ\n11.00 ΕΠΙ ΚΟΝΤΩ Α 10αθλο (8)\n11.00 ΑΚΟΝΤΙΣΜΟΣ Κ 7αθλο (6)\n13.00 ΑΚΟΝΤΙΣΜΟΣ Α 10αθλο (9)\n13.00 800μ. Κ 7αθλο\n14.15 1.500μ. Α 10αθλο
URL:https://www.stivoz.gr/event/sxoliko-2024/
CATEGORIES:Ημερολόγιο αγώνων
END:VEVENT
END:VCALENDAR