BEGIN:VCALENDAR
VERSION:2.0
PRODID:-//StivoZ.gr - ECPv5.16.4//NONSGML v1.0//EN
CALSCALE:GREGORIAN
METHOD:PUBLISH
X-WR-CALNAME:StivoZ.gr
X-ORIGINAL-URL:https://www.stivoz.gr
X-WR-CALDESC:StivoZ.gr - Εκδηλώσεις
BEGIN:VTIMEZONE
TZID:Europe/Athens
BEGIN:DAYLIGHT
TZOFFSETFROM:+0200
TZOFFSETTO:+0300
TZNAME:EEST
DTSTART:20230326T010000
END:DAYLIGHT
BEGIN:STANDARD
TZOFFSETFROM:+0300
TZOFFSETTO:+0200
TZNAME:EET
DTSTART:20231029T010000
END:STANDARD
END:VTIMEZONE
BEGIN:VEVENT
DTSTART;VALUE=DATE:20230504
DTEND;VALUE=DATE:20230506
DTSTAMP:20260422T035718
CREATED:20230402T091439Z
LAST-MODIFIED:20230506T215901Z
UID:102697-1683158400-1683331199@www.stivoz.gr
SUMMARY:Σχολικοί – τελική φάση (Ελευθερούπολη)
DESCRIPTION:Σχετικά θέματα:\n– www.stivoz.gr/scholiko-4-rekor-agonon/\n– www.stivoz.gr/sxoliko-2023/ (αποτελέσματα) \n(-> αποτελέσματα Β΄φάσης) \n-> προκήρυξη\n-> όρια & διαδικασία πρόκρισης\n-> ιστορικό\n-> νικητές διοργάνωσης\n-> ρεκόρ σχολικών αγώνων \nΟι αγώνες θα μεταδοθούν ζωντανά σε livestreaming μετάδοση στο κανάλι του Δήμου Παγγαίου (->εδώ) την Πέμπτη από τις 11.05 έως τις 13.00 και το απόγευμα από 15.30 έως το 22.00 και την Παρασκευή από τις 11:00 έως τις 13:00. \nΠρόγραμμα: \nΠΕΜΠΤΗ 4 ΜΑΪΟΥ \n09.00 100 ΕΜΠ Κ 7αθλο (1)\n09.30 ΣΦΥΡΟΒΟΛΙΑ ΚΟΡΙΤΣΙΩΝ\n09.30 100μ. εμπ. ΚΟΡΙΤΣΙΩΝ Προκριματικός\n09.45 110μ. εμπ. ΑΓΟΡΙΩΝ Προκριματικός\n10.00 100μ. Α 10αθλο (1)\n10.15 ΥΨΟΣ Κ 7αθλο (2)\n10.15 400μ. εμπ. ΑΓΟΡΙΩΝ Προκριματικός\n10.30 400μ. εμπ. ΚΟΡΙΤΣΙΩΝ Προκριματικός\n10.50 400μ. ΑΓΟΡΙΩΝ Προκριματικός\n11.05 400μ. ΚΟΡΙΤΣΙΩΝ Προκριματικός\n11.05 ΤΡΙΠΛΟΥΝ ΚΟΡΙΤΣΙΩΝ\n11.10 ΜΗΚΟΣ Α 10αθλο (2)\n11.20 200μ. ΑΓΟΡΙΩΝ Προκριματικός\n11.30 200μ. ΚΟΡΙΤΣΙΩΝ Προκριματικός\n11.50 100μ. ΑΓΟΡΙΩΝ Προκριματικός\n11.55 ΕΠΙ ΚΟΝΤΩ ΑΓΟΡΙΩΝ\n12.05 100μ. ΚΟΡΙΤΣΙΩΝ Προκριματικός\n12.05 ΣΦΑΙΡΟΒΟΛΙΑ Α 10αθλο (3)\n12.20 ΣΦΥΡΟΒΟΛΙΑ ΑΓΟΡΙΩΝ \n15.15 Τελετή έναρξης\n15.30 ΥΨΟΣ ΑΓΟΡΙΩΝ\n15.30 ΑΚΟΝΣΙΣΜΟΣ ΚΟΡΙΤΣΙΩΝ\n15.45 ΤΡΙΠΛΟΥΝ ΑΓΟΡΙΩΝ\n16.30 ΣΦΑΙΡΟΒΟΛΙΑ Κ 7αθλο (3)\n17.00 800μ. ΑΓΟΡΙΩΝ\n17.00 ΑΚΟΝΤΙΣΜΟΣ ΑΓΟΡΙΩΝ\n17.10 800μ. ΚΟΡΙΤΣΙΩΝ\n17.25 ΥΨΟΣ Α 10αθλο (4)\n17.25 2.000μ. στ. ΑΓΟΡΙΩΝ\n17.40 2.000μ. στ. ΚΟΡΙΤΣΙΩΝ\n17.55 ΜΗΚΟΣ ΚΟΡΙΤΣΙΩΝ\n17.55 ΣΦΑΙΡΟΒΟΛΙΑ ΑΓΟΡΙΩΝ\n17.55 1.500μ. ΑΓΟΡΙΩΝ\n18.05 1.500μ. ΚΟΡΙΤΣΙΩΝ\n18.20 3.000μ. ΑΓΟΡΙΩΝ\n18.35 3.000μ. ΚΟΡΙΤΣΙΩΝ\n18.35 ΕΠΙ ΚΟΝΤΩ ΚΟΡΙΤΣΙΩΝ\n18.50 ΔΙΣΚΟΒΟΛΙΑ ΚΟΡΙΤΣΙΩΝ\n18.50 200μ. Κ 7αθλο (4)\n19.15 ΥΨΟΣ ΚΟΡΙΤΣΙΩΝ\n19.15 200μ. ΑΓΟΡΙΩΝ\n19.30 200μ. ΚΟΡΙΤΣΙΩΝ\n19.30 ΣΦΑΙΡΟΒΟΛΙΑ ΚΟΡΙΤΣΙΩΝ\n19.45 400μ. εμπ. ΑΓΟΡΙΩΝ\n19.45 ΜΗΚΟΣ ΑΓΟΡΙΩΝ\n20.00 400μ. εμπ. ΚΟΡΙΤΣΙΩΝ\n20.10 400μ. Α 10αθλο (5)\n20.20 ΔΙΣΚΟΒΟΛΙΑ ΑΓΟΡΙΩΝ\n20.30 400μ. ΑΓΟΡΙΩΝ\n20.40 400μ. ΚΟΡΙΤΣΙΩΝ\n20.55 100μ. ΑΓΟΡΙΩΝ\n21.05 100μ. ΚΟΡΙΤΣΙΩΝ\n21.20 100μ. εμπ. ΚΟΡΙΤΣΙΩΝ\n21.35 110μ. εμπ. ΑΓΟΡΙΩΝ \nΠΑΡΑΣΚΕΥΗ 5 ΜΑΪΟΥ \n09.00 110μ. εμπ. Α 10αθλο (6)\n09.05 ΜΗΚΟΣ Κ 7αθλο (5)\n09.15 10.000μ. Βάδην ΑΓΟΡΙΩΝ\n09.45 ΔΙΣΚΟΒΟΛΙΑ Α 10αθλο (7)\n10.30 5.000μ. Βάδην ΚΟΡΙΤΣΙΩΝ\n11.00 ΕΠΙ ΚΟΝΤΩ Α 10αθλο (8)\n11.00 ΑΚΟΝΣΙΣΜΟΣ Κ 7αθλο (6)\n13.00 ΑΚΟΝΤΙΣΜΟΣ Α 10αθλο (9)\n13.00 800μ. Κ 7αθλο\n14.15 1.500μ. Α 10αθλο
URL:https://www.stivoz.gr/event/sxoliko-2023/
CATEGORIES:Ημερολόγιο αγώνων
END:VEVENT
END:VCALENDAR