BEGIN:VCALENDAR
VERSION:2.0
PRODID:-//StivoZ.gr - ECPv5.16.4//NONSGML v1.0//EN
CALSCALE:GREGORIAN
METHOD:PUBLISH
X-WR-CALNAME:StivoZ.gr
X-ORIGINAL-URL:https://www.stivoz.gr
X-WR-CALDESC:StivoZ.gr - Εκδηλώσεις
BEGIN:VTIMEZONE
TZID:Europe/Athens
BEGIN:DAYLIGHT
TZOFFSETFROM:+0200
TZOFFSETTO:+0300
TZNAME:EEST
DTSTART:20130331T010000
END:DAYLIGHT
BEGIN:STANDARD
TZOFFSETFROM:+0300
TZOFFSETTO:+0200
TZNAME:EET
DTSTART:20131027T010000
END:STANDARD
END:VTIMEZONE
BEGIN:VEVENT
DTSTART;VALUE=DATE:20130424
DTEND;VALUE=DATE:20130426
DTSTAMP:20260422T033836
CREATED:20130409T084746Z
LAST-MODIFIED:20220622T074614Z
UID:28780-1366794000-1366923600@www.stivoz.gr
SUMMARY:Σχολικοί - τελική φάση (ΟΑΚΑ)
DESCRIPTION:Σχετικά θέματα:\n– www.stivoz.com/forum/showthread.php?8480 (συμμετοχές)\n– www.stivoz.com/forum/showthread.php?8490\n– www.stivoz.com/forum/showthread.php?8489 (αποτελέσματα) \nΠρόγραμμα: \nΤετάρτη (24/5) \nΠρωί \n10.00 μήκος (Κ)\, Σφυροβολία (Α)\, Σφαιροβολία (Α) \n10.00 100 μ. 8αθλου\,  \n10.20 100 μ. εμπ. 7αθλου \n10.40 100 μ. εμπ. (Κ) \n11.00 110 μ. εμπ. (Α) \n11.15 Μήκος 8αθλου\, Ύψος 7αθλου\,  \n11.15 Σφαιροβολία (Κ)\, Σφυροβολία (Κ) \nΑπόγευμα \n17.00 επί κοντώ (Κ)\, Τριπλούν (Α)\, Υψος (Κ)\, Δισκοβολία (Κ) \n17.00 Σφαιροβολία 8αθλου\,  \n17.00 400 μ. εμπ. (Α)\, \n17.15 400 μ.  εμπ. (Α) \n17.30 400 μ. (Α) \n17.40 400 μ. (Κ) \n17.55 800 μ. (Α) \n18.05 800 μ. (Κ) \n18.15 400 μ. 8αθλου\, Σφαιροβολία 7αθλου \n18.30 2.000 μ. στιπλ (Α)\,  \n18.30 Τριπλούν (Κ)\, Υψος (Α)\, Δισκοβολία (Α) \n18.45 1.500 μ. (Α) \n19.00 1.500 μ. (Κ) \n19.15 Επί κοντώ (Α) \n19.15 200 μ. (Α)\,  \n19.25 200 μ.  (Κ) \n19.35 200 μ. 7αθλου \n19.50 Μήκος (Α)\, Ακοντισμός (Α) \n19.50 3.000 μ. (Α)\, \n20.05 3.000 μ. (Κ) \n20.25 100 μ. (Α) \n20.35 100 μ. (Κ) \nΠέμπτη (25/4) \nΠρωί \n09.00 Ακοντισμός (Κ) \n09.00 110 μ. εμπ. 8αθλου\, μήκος 7αθλου\,  \n09.15 10.000 μ. βάδην (Α) \n09.45 Ύψος 8αθλου \n10.15 5.000 μ. βάδην (Κ)\,  \n10.15 Ακοντισμός 7αθλου \n11.00 Ακοντισμός 8αθλου \n12.00 800 μ. 7αθλου \n12.15 1000 μ. 8αθλου
URL:https://www.stivoz.gr/event/sxoliko-2013/
CATEGORIES:Ημερολόγιο αγώνων
END:VEVENT
END:VCALENDAR