BEGIN:VCALENDAR
VERSION:2.0
PRODID:-//StivoZ.gr - ECPv5.16.4//NONSGML v1.0//EN
CALSCALE:GREGORIAN
METHOD:PUBLISH
X-WR-CALNAME:StivoZ.gr
X-ORIGINAL-URL:https://www.stivoz.gr
X-WR-CALDESC:StivoZ.gr - Εκδηλώσεις
BEGIN:VTIMEZONE
TZID:Europe/Athens
BEGIN:DAYLIGHT
TZOFFSETFROM:+0200
TZOFFSETTO:+0300
TZNAME:EEST
DTSTART:20120325T010000
END:DAYLIGHT
BEGIN:STANDARD
TZOFFSETFROM:+0300
TZOFFSETTO:+0200
TZNAME:EET
DTSTART:20121028T010000
END:STANDARD
END:VTIMEZONE
BEGIN:VEVENT
DTSTART;VALUE=DATE:20120515
DTEND;VALUE=DATE:20120517
DTSTAMP:20260419T163746
CREATED:20120508T081027Z
LAST-MODIFIED:20220622T074627Z
UID:28645-1337072400-1337176800@www.stivoz.gr
SUMMARY:Σχολικοί - τελική φάση (ΟΑΚΑ)
DESCRIPTION:ΑΓΩΝΙΣΜΑΤΑ (εκτος 7θλου) \nΤΡΙΤΗ 15/5 \n10:00 (Κ1) ακοντιο Α\n10:10 (Κ2) 100εμπ Κ προκρ.\n10:30 (Κ2) 110εμπ Α προκρ.\n10:30 (ΟΑΚΑ) μήκος Κ\n10:45 (Κ2) 200μ Α προκρ.\n11:05 (Κ1) ακόντιο Κ\n11:05 (Κ2) 400εμπ Κ προκρ.\n11:20 (Κ2) 400εμπ Α προκρ.\n11:20 (ΟΑΚΑ) μήκος Α\n11:40 (Κ2) 400 Κ προκρ.\n11:55 (Κ2) 400 Α προκρ. \n17:00 (Κ1) σφύρα Α\n17:00 (Κ1) σφαίρα Α\n17:00 (Κ2) τριπλούν Α\n17:00 (Κ2) ύψος Κ\n17:00 (Κ2) επικοντώ Κ\n17:00 (Κ2) 100εμπ Κ\n17:15 (Κ2) 110εμπ Α\n17:30 (Κ2) 800 Κ\n17:40 (Κ2) 800 Α\n17:55 (Κ2) 1500 Κ\n18:10 (Κ2) 1500 Α\n18:10 (Κ1) σφύρα Κ\n18:25 (Κ2) τριπλούν Κ\n18:25 (Κ2) 400 Κ\n18:40 (Κ2) 400 Α\n18:40 (Κ2) επικοντώ Α\n18:55 (Κ2) 200 Κ\n19:10 (Κ2) 200 Α\n19:20 (K1) σφαίρα Κ\n19:30 (Κ2) 3χλμ Κ\n19:50 (Κ2) 400εμπ Κ\n20:05 (Κ2) 400εμπ Α \nΤΕΤΑΡΤΗ 16/5 \n09:00 (Κ2) 5χλμ βάδην Κ\n09:30 (Κ1) δίσκος Α\n10:00 (Κ2) 10χλμ βάδην Α \n7θλο:\nΤρίτη:\n10:00 (Κ2) 100 εμπ.\n11:05 (Κ2) ύψος\n18:00 (Κ1) σφαίρα\n19:20 (Κ2) 200μ\nΤετάρτη:\n09:30 (Κ2) μήκος\n10:30 (Κ1) ακόντιο\n17:00 (Κ2) 800μ
URL:https://www.stivoz.gr/event/sxoliko-2012/
CATEGORIES:Ημερολόγιο αγώνων
END:VEVENT
END:VCALENDAR